BEGIN:VCALENDAR
VERSION:2.0
PRODID:-//Kingsmill Resort and Realty - ECPv6.15.20//NONSGML v1.0//EN
CALSCALE:GREGORIAN
METHOD:PUBLISH
X-WR-CALNAME:Kingsmill Resort and Realty
X-ORIGINAL-URL:https://kingsmill.com
X-WR-CALDESC:Events for Kingsmill Resort and Realty
REFRESH-INTERVAL;VALUE=DURATION:PT1H
X-Robots-Tag:noindex
X-PUBLISHED-TTL:PT1H
BEGIN:VTIMEZONE
TZID:UTC
BEGIN:STANDARD
TZOFFSETFROM:+0000
TZOFFSETTO:+0000
TZNAME:UTC
DTSTART:20230101T000000
END:STANDARD
END:VTIMEZONE
BEGIN:VEVENT
DTSTART;TZID=UTC:20240830T110000
DTEND;TZID=UTC:20240902T210000
DTSTAMP:20260422T102743
CREATED:20240827T214541Z
LAST-MODIFIED:20240827T214651Z
UID:38256-1725015600-1725310800@kingsmill.com
SUMMARY:Labor Day Food Specials - Eagles
DESCRIPTION:Half-Rack Baby Back Ribs \nFries\, Cole Slaw \n  \nCuban Sandwich \nSliced Ham\, Pork BBQ\, Swiss Cheese\, Mustard\, Pickles\, Garlic Aioli \n  \nStrawberry Shortcake \nLocal Strawberries\, Whipped Cream
URL:https://kingsmill.com/event/labor-day-food-specials-eagles/
LOCATION:Eagles
END:VEVENT
BEGIN:VEVENT
DTSTART;TZID=UTC:20240902T130000
DTEND;TZID=UTC:20240902T170000
DTSTAMP:20260422T102743
CREATED:20240828T204815Z
LAST-MODIFIED:20240828T204815Z
UID:38270-1725282000-1725296400@kingsmill.com
SUMMARY:River Pool Labor Day Entertainment
DESCRIPTION:Join us at the River Pool this Labor Day for water fun\, food and drinks\, and live music by DJ Greg. 
URL:https://kingsmill.com/event/river-pool-labor-day-entertainment/
LOCATION:River Pool
END:VEVENT
END:VCALENDAR