BEGIN:VCALENDAR
VERSION:2.0
PRODID:-//Kingsmill Resort and Realty - ECPv6.15.20//NONSGML v1.0//EN
CALSCALE:GREGORIAN
METHOD:PUBLISH
X-ORIGINAL-URL:https://kingsmill.com
X-WR-CALDESC:Events for Kingsmill Resort and Realty
REFRESH-INTERVAL;VALUE=DURATION:PT1H
X-Robots-Tag:noindex
X-PUBLISHED-TTL:PT1H
BEGIN:VTIMEZONE
TZID:UTC
BEGIN:STANDARD
TZOFFSETFROM:+0000
TZOFFSETTO:+0000
TZNAME:UTC
DTSTART:20230101T000000
END:STANDARD
END:VTIMEZONE
BEGIN:VEVENT
DTSTART;TZID=UTC:20240904T160000
DTEND;TZID=UTC:20240904T180000
DTSTAMP:20260422T102941
CREATED:20240610T220013Z
LAST-MODIFIED:20240610T220013Z
UID:37729-1725465600-1725472800@kingsmill.com
SUMMARY:Kids Craft
DESCRIPTION:Join us for a fun kid-friendly activity. 
URL:https://kingsmill.com/event/kids-craft-20/
LOCATION:The Mill
END:VEVENT
END:VCALENDAR