BEGIN:VCALENDAR
VERSION:2.0
PRODID:-//Kingsmill Resort and Realty - ECPv6.15.20//NONSGML v1.0//EN
CALSCALE:GREGORIAN
METHOD:PUBLISH
X-ORIGINAL-URL:https://kingsmill.com
X-WR-CALDESC:Events for Kingsmill Resort and Realty
REFRESH-INTERVAL;VALUE=DURATION:PT1H
X-Robots-Tag:noindex
X-PUBLISHED-TTL:PT1H
BEGIN:VTIMEZONE
TZID:UTC
BEGIN:STANDARD
TZOFFSETFROM:+0000
TZOFFSETTO:+0000
TZNAME:UTC
DTSTART:20230101T000000
END:STANDARD
END:VTIMEZONE
BEGIN:VEVENT
DTSTART;TZID=UTC:20240907T170000
DTEND;TZID=UTC:20240907T200000
DTSTAMP:20260422T102914
CREATED:20240808T225345Z
LAST-MODIFIED:20240808T230658Z
UID:38210-1725728400-1725739200@kingsmill.com
SUMMARY:Live Music - Jan & Zane
DESCRIPTION:Enjoy dinner\, drinks\, and live music from Jan and Zane.  \n\n\n\n\n\n\n 
URL:https://kingsmill.com/event/live-music-jan-zane/
LOCATION:James Landing Grille
END:VEVENT
BEGIN:VEVENT
DTSTART;TZID=UTC:20240907T180000
DTEND;TZID=UTC:20240907T200000
DTSTAMP:20260422T102914
CREATED:20240610T221816Z
LAST-MODIFIED:20240610T221816Z
UID:37732-1725732000-1725739200@kingsmill.com
SUMMARY:Trivia Night
DESCRIPTION:Join us for a fun night of Trivia.
URL:https://kingsmill.com/event/trivia-night-5/
LOCATION:Eagles
END:VEVENT
END:VCALENDAR