BEGIN:VCALENDAR
VERSION:2.0
PRODID:-//Kingsmill Resort and Realty - ECPv6.15.20//NONSGML v1.0//EN
CALSCALE:GREGORIAN
METHOD:PUBLISH
X-ORIGINAL-URL:https://kingsmill.com
X-WR-CALDESC:Events for Kingsmill Resort and Realty
REFRESH-INTERVAL;VALUE=DURATION:PT1H
X-Robots-Tag:noindex
X-PUBLISHED-TTL:PT1H
BEGIN:VTIMEZONE
TZID:UTC
BEGIN:STANDARD
TZOFFSETFROM:+0000
TZOFFSETTO:+0000
TZNAME:UTC
DTSTART:20230101T000000
END:STANDARD
END:VTIMEZONE
BEGIN:VEVENT
DTSTART;TZID=UTC:20241106T110000
DTEND;TZID=UTC:20241106T210000
DTSTAMP:20260422T074141
CREATED:20241021T181214Z
LAST-MODIFIED:20241021T181214Z
UID:38533-1730890800-1730926800@kingsmill.com
SUMMARY:National Nacho Day
DESCRIPTION:Enjoy delicious Nachos from Eagles to celebrate National Nachos Day!
URL:https://kingsmill.com/event/national-nacho-day/
LOCATION:Eagles
ATTACH;FMTTYPE=image/jpeg:https://kingsmill.com/wp-content/uploads/2024/10/Nachos.jpg
END:VEVENT
BEGIN:VEVENT
DTSTART;TZID=UTC:20241106T160000
DTEND;TZID=UTC:20241106T180000
DTSTAMP:20260422T074141
CREATED:20240610T222832Z
LAST-MODIFIED:20240909T211031Z
UID:37746-1730908800-1730916000@kingsmill.com
SUMMARY:Kids Craft
DESCRIPTION:Join us for a fun kid-friendly activity. 
URL:https://kingsmill.com/event/kids-craft-24/
LOCATION:The Mill
ATTACH;FMTTYPE=image/jpeg:https://kingsmill.com/wp-content/uploads/2024/06/Mill.jpg
END:VEVENT
BEGIN:VEVENT
DTSTART;TZID=UTC:20241106T160000
DTEND;TZID=UTC:20241106T210000
DTSTAMP:20260422T074141
CREATED:20241021T181449Z
LAST-MODIFIED:20241021T181449Z
UID:38536-1730908800-1730926800@kingsmill.com
SUMMARY:National Nacho Day
DESCRIPTION:Enjoy delicious Nachos from James Landing Grille to celebrate National Nachos Day!
URL:https://kingsmill.com/event/national-nacho-day-2/
LOCATION:James Landing Grille
ATTACH;FMTTYPE=image/jpeg:https://kingsmill.com/wp-content/uploads/2024/10/Nachos.jpg
END:VEVENT
END:VCALENDAR