BEGIN:VCALENDAR
VERSION:2.0
PRODID:-//Kingsmill Resort and Realty - ECPv6.15.20//NONSGML v1.0//EN
CALSCALE:GREGORIAN
METHOD:PUBLISH
X-ORIGINAL-URL:https://kingsmill.com
X-WR-CALDESC:Events for Kingsmill Resort and Realty
REFRESH-INTERVAL;VALUE=DURATION:PT1H
X-Robots-Tag:noindex
X-PUBLISHED-TTL:PT1H
BEGIN:VTIMEZONE
TZID:UTC
BEGIN:STANDARD
TZOFFSETFROM:+0000
TZOFFSETTO:+0000
TZNAME:UTC
DTSTART:20230101T000000
END:STANDARD
END:VTIMEZONE
BEGIN:VEVENT
DTSTART;TZID=UTC:20241108T180000
DTEND;TZID=UTC:20241108T200000
DTSTAMP:20260422T074141
CREATED:20241021T183256Z
LAST-MODIFIED:20241021T183256Z
UID:38548-1731088800-1731096000@kingsmill.com
SUMMARY:S'mores Kit
DESCRIPTION:Enjoy a S’mores Kit for $5! Purchase at the front desk and use at the outdoor firepit by The Mill. 
URL:https://kingsmill.com/event/smores-kit-2/
LOCATION:The Mill
ATTACH;FMTTYPE=image/jpeg:https://kingsmill.com/wp-content/uploads/2024/10/SmoresKit.jpg
END:VEVENT
END:VCALENDAR