BEGIN:VCALENDAR
VERSION:2.0
PRODID:-//Kingsmill Resort and Realty - ECPv6.15.20//NONSGML v1.0//EN
CALSCALE:GREGORIAN
METHOD:PUBLISH
X-ORIGINAL-URL:https://kingsmill.com
X-WR-CALDESC:Events for Kingsmill Resort and Realty
REFRESH-INTERVAL;VALUE=DURATION:PT1H
X-Robots-Tag:noindex
X-PUBLISHED-TTL:PT1H
BEGIN:VTIMEZONE
TZID:UTC
BEGIN:STANDARD
TZOFFSETFROM:+0000
TZOFFSETTO:+0000
TZNAME:UTC
DTSTART:20230101T000000
END:STANDARD
END:VTIMEZONE
BEGIN:VEVENT
DTSTART;TZID=UTC:20241111T070000
DTEND;TZID=UTC:20241111T230000
DTSTAMP:20260422T074718
CREATED:20241015T184928Z
LAST-MODIFIED:20241016T195500Z
UID:38498-1731308400-1731366000@kingsmill.com
SUMMARY:Veterans Day Breakfast - Veterans Eat FREE
DESCRIPTION:Enjoy free breakfast\, when you show your Military ID\, at River’s Edge Buffet (formerly Elements) on Veterans Day. \nBring your family to enjoy breakfast as well. \nAdults – $23 | Kids – $12.95 | 4 & Under – Free
URL:https://kingsmill.com/event/veterns-day-breakfast/
LOCATION:River’s Edge Buffet
ATTACH;FMTTYPE=image/jpeg:https://kingsmill.com/wp-content/uploads/2024/10/riversedgetn.jpg
END:VEVENT
BEGIN:VEVENT
DTSTART;TZID=UTC:20241111T080000
DTEND;TZID=UTC:20241111T170000
DTSTAMP:20260422T074718
CREATED:20241016T190204Z
LAST-MODIFIED:20241021T181822Z
UID:38506-1731312000-1731344400@kingsmill.com
SUMMARY:Veterans Play FREE GOLF Today Only
DESCRIPTION:When you show your Military ID\, you can play a round of golf on River or Plantation Course for FREE on Veteran’s Day\, November 11. Tee times are available from 8 AM to 3 PM. Schedule your tee time with the Pro Shop: 757-253-3906
URL:https://kingsmill.com/event/veterans-play-free-golf-today-only/
ATTACH;FMTTYPE=image/jpeg:https://kingsmill.com/wp-content/uploads/2024/10/golftn.jpg
END:VEVENT
END:VCALENDAR