BEGIN:VCALENDAR
VERSION:2.0
PRODID:-//Kingsmill Resort and Realty - ECPv6.15.20//NONSGML v1.0//EN
CALSCALE:GREGORIAN
METHOD:PUBLISH
X-WR-CALNAME:Kingsmill Resort and Realty
X-ORIGINAL-URL:https://kingsmill.com
X-WR-CALDESC:Events for Kingsmill Resort and Realty
REFRESH-INTERVAL;VALUE=DURATION:PT1H
X-Robots-Tag:noindex
X-PUBLISHED-TTL:PT1H
BEGIN:VTIMEZONE
TZID:UTC
BEGIN:STANDARD
TZOFFSETFROM:+0000
TZOFFSETTO:+0000
TZNAME:UTC
DTSTART:20230101T000000
END:STANDARD
END:VTIMEZONE
BEGIN:VEVENT
DTSTART;TZID=UTC:20241116T170000
DTEND;TZID=UTC:20241116T200000
DTSTAMP:20260422T074024
CREATED:20240909T213154Z
LAST-MODIFIED:20240909T213222Z
UID:38377-1731776400-1731787200@kingsmill.com
SUMMARY:Live Music - Todd Murray
DESCRIPTION:Enjoy dinner\, drinks\, and live music from Todd Murray at James Landing Grille.
URL:https://kingsmill.com/event/live-music-todd-murray/
LOCATION:James Landing Grille
ATTACH;FMTTYPE=image/jpeg:https://kingsmill.com/wp-content/uploads/2024/06/JLG-1-1.jpg
END:VEVENT
END:VCALENDAR