BEGIN:VCALENDAR
VERSION:2.0
PRODID:-//Kingsmill Resort and Realty - ECPv6.15.20//NONSGML v1.0//EN
CALSCALE:GREGORIAN
METHOD:PUBLISH
X-WR-CALNAME:Kingsmill Resort and Realty
X-ORIGINAL-URL:https://kingsmill.com
X-WR-CALDESC:Events for Kingsmill Resort and Realty
REFRESH-INTERVAL;VALUE=DURATION:PT1H
X-Robots-Tag:noindex
X-PUBLISHED-TTL:PT1H
BEGIN:VTIMEZONE
TZID:UTC
BEGIN:STANDARD
TZOFFSETFROM:+0000
TZOFFSETTO:+0000
TZNAME:UTC
DTSTART:20230101T000000
END:STANDARD
END:VTIMEZONE
BEGIN:VEVENT
DTSTART;TZID=UTC:20241126T170000
DTEND;TZID=UTC:20241126T210000
DTSTAMP:20260422T045235
CREATED:20241021T182940Z
LAST-MODIFIED:20241102T001546Z
UID:38545-1732640400-1732654800@kingsmill.com
SUMMARY:Gingerbread Village Unveil
DESCRIPTION:Get in the Christmas Spirit! \nJoin us in the Resort Lobby for our Annual Gingerbread Village Unveil by Chef Mark. There will be a first-come\, first-serve\, Pasta Buffet dinner from 5 pm – 9 pm in River’s Edge Buffet for those who want to enjoy\, and we will unveil the village at 6:30 pm. We’ll have Cider\, Cocoa\, and Cookies for those who don’t want dinner in the lobby!  \nPasta Bar at River’s Edge Buffet\n$29 ++ Resort | $24 ++ Member\n$15++ Resort (Ages 6-12) | $13++ Member (Ages 6-12) \nView Menu
URL:https://kingsmill.com/event/gingerbread-village-unveil/
LOCATION:Main Resort Center
ATTACH;FMTTYPE=image/jpeg:https://kingsmill.com/wp-content/uploads/2024/10/GingerbreadVillage.jpg
END:VEVENT
END:VCALENDAR