BEGIN:VCALENDAR
VERSION:2.0
PRODID:-//Kingsmill Resort and Realty - ECPv6.15.20//NONSGML v1.0//EN
CALSCALE:GREGORIAN
METHOD:PUBLISH
X-ORIGINAL-URL:https://kingsmill.com
X-WR-CALDESC:Events for Kingsmill Resort and Realty
REFRESH-INTERVAL;VALUE=DURATION:PT1H
X-Robots-Tag:noindex
X-PUBLISHED-TTL:PT1H
BEGIN:VTIMEZONE
TZID:UTC
BEGIN:STANDARD
TZOFFSETFROM:+0000
TZOFFSETTO:+0000
TZNAME:UTC
DTSTART:20240101T000000
END:STANDARD
END:VTIMEZONE
BEGIN:VEVENT
DTSTART;TZID=UTC:20250101T110000
DTEND;TZID=UTC:20250101T140000
DTSTAMP:20260422T032103
CREATED:20241028T223958Z
LAST-MODIFIED:20241028T223958Z
UID:38715-1735729200-1735740000@kingsmill.com
SUMMARY:New Years Day Brunch 2025
DESCRIPTION:Kick off 2025 at Kingsmill Resort! If you are a Member of The Club at Kingsmill or a Resort Guest\, you are eligible to join us at River’s Edge Buffet.  \nClick here to RSVP.
URL:https://kingsmill.com/event/new-years-day-brunch-2025/
LOCATION:River’s Edge Buffet
ATTACH;FMTTYPE=image/jpeg:https://kingsmill.com/wp-content/uploads/2024/10/riversedgetn.jpg
END:VEVENT
END:VCALENDAR