BEGIN:VCALENDAR
VERSION:2.0
PRODID:-//Kingsmill Resort and Realty - ECPv6.15.20//NONSGML v1.0//EN
CALSCALE:GREGORIAN
METHOD:PUBLISH
X-ORIGINAL-URL:https://kingsmill.com
X-WR-CALDESC:Events for Kingsmill Resort and Realty
REFRESH-INTERVAL;VALUE=DURATION:PT1H
X-Robots-Tag:noindex
X-PUBLISHED-TTL:PT1H
BEGIN:VTIMEZONE
TZID:UTC
BEGIN:STANDARD
TZOFFSETFROM:+0000
TZOFFSETTO:+0000
TZNAME:UTC
DTSTART:20240101T000000
END:STANDARD
END:VTIMEZONE
BEGIN:VEVENT
DTSTART;TZID=UTC:20250126T110000
DTEND;TZID=UTC:20250126T200000
DTSTAMP:20260422T032100
CREATED:20250122T205135Z
LAST-MODIFIED:20250122T205135Z
UID:39173-1737889200-1737921600@kingsmill.com
SUMMARY:Eagles Football Special
DESCRIPTION:Join us at Eagles for Game Day and a delicious football special. Enjoy Bratwurst and Sauerkraut on a pretzel roll.  Two per order\, and a side | $15
URL:https://kingsmill.com/event/eagles-football-special/
LOCATION:Eagles
ATTACH;FMTTYPE=image/jpeg:https://kingsmill.com/wp-content/uploads/2024/08/Eagles-1.jpg
END:VEVENT
END:VCALENDAR