BEGIN:VCALENDAR
VERSION:2.0
PRODID:-//Kingsmill Resort and Realty - ECPv6.15.20//NONSGML v1.0//EN
CALSCALE:GREGORIAN
METHOD:PUBLISH
X-WR-CALNAME:Kingsmill Resort and Realty
X-ORIGINAL-URL:https://kingsmill.com
X-WR-CALDESC:Events for Kingsmill Resort and Realty
REFRESH-INTERVAL;VALUE=DURATION:PT1H
X-Robots-Tag:noindex
X-PUBLISHED-TTL:PT1H
BEGIN:VTIMEZONE
TZID:UTC
BEGIN:STANDARD
TZOFFSETFROM:+0000
TZOFFSETTO:+0000
TZNAME:UTC
DTSTART:20240101T000000
END:STANDARD
END:VTIMEZONE
BEGIN:VEVENT
DTSTART;TZID=UTC:20250201T070000
DTEND;TZID=UTC:20250201T110000
DTSTAMP:20260422T014250
CREATED:20250121T020922Z
LAST-MODIFIED:20250121T021346Z
UID:39158-1738393200-1738407600@kingsmill.com
SUMMARY:National Ice Cream for Breakfast Day
DESCRIPTION:Join us at The Mill for $1 Ice Cream to celebrate National Ice Cream for Breakfast Day! 
URL:https://kingsmill.com/event/national-ice-cream-for-breakfast-day/
LOCATION:The Mill
ATTACH;FMTTYPE=image/jpeg:https://kingsmill.com/wp-content/uploads/2025/01/IceCreamDay.jpg
END:VEVENT
BEGIN:VEVENT
DTSTART;TZID=UTC:20250201T200000
DTEND;TZID=UTC:20250201T220000
DTSTAMP:20260422T014250
CREATED:20241218T211348Z
LAST-MODIFIED:20250124T235605Z
UID:39002-1738440000-1738447200@kingsmill.com
SUMMARY:Comedy Night 2025
DESCRIPTION:Enjoy a night of fun and laughter at Kingsmill’s Comedy Night!  \nAt this time\, we are not taking any more reservations. If you would like to be put on the waitlist\, please reach out to Madeline.Merrick@Kingsmill.com  \nKaren Morgan is returning from last year with all new content! She will be the headline of the night\, with MC Brent Blakeney\, and opener Bryan Morton. Enjoy a Cash Bar at the Event. Doors open at 7:30 PM. \nYou have the option to purchase… \n1. Our show and dinner package. View buffet dinner here.  \n2. Just a show ticket \n3. A table with your fellow friends ($50/Table) \nThis event is ASSIGNED SEATING\, so you must request a table to sit with specific people. Accommodations can be made if stated in RSVP\, but NO seat changes the night of. Membership can pick up tickets the afternoon of the event for express entry. Cannon Club Members may enter up to 30 minutes early for shorter lines at the bar. \n*Cancellation policy of 48 hours before the event. Please reach out to Madeline.Merrick@Kingsmill.com with any questions.
URL:https://kingsmill.com/event/comedy-night-2/
LOCATION:James River Grand Ballroom
ATTACH;FMTTYPE=image/jpeg:https://kingsmill.com/wp-content/uploads/2024/12/ComedyNight.jpg
END:VEVENT
END:VCALENDAR