BEGIN:VCALENDAR
VERSION:2.0
PRODID:-//Kingsmill Resort and Realty - ECPv6.15.20//NONSGML v1.0//EN
CALSCALE:GREGORIAN
METHOD:PUBLISH
X-WR-CALNAME:Kingsmill Resort and Realty
X-ORIGINAL-URL:https://kingsmill.com
X-WR-CALDESC:Events for Kingsmill Resort and Realty
REFRESH-INTERVAL;VALUE=DURATION:PT1H
X-Robots-Tag:noindex
X-PUBLISHED-TTL:PT1H
BEGIN:VTIMEZONE
TZID:UTC
BEGIN:STANDARD
TZOFFSETFROM:+0000
TZOFFSETTO:+0000
TZNAME:UTC
DTSTART:20240101T000000
END:STANDARD
END:VTIMEZONE
BEGIN:VEVENT
DTSTART;TZID=UTC:20250209T110000
DTEND;TZID=UTC:20250209T200000
DTSTAMP:20260422T013440
CREATED:20250128T020650Z
LAST-MODIFIED:20250210T022140Z
UID:39202-1739098800-1739131200@kingsmill.com
SUMMARY:Super Bowl Specials
DESCRIPTION:Celebrate the Super Bowl at Kingsmill Resort! \nEnjoy delicious specials at Eagles all day.  \nPhilly Cheesesteak | $18 Shaved Prime Rib\, Peppers & Onions\, Provolone Cheese\, Sub Roll. Served with your choice of side.  \nPulled Pork BBQ Sliders | $3 each | Pulled Pork\, Kansas City BBQ Sauce\, Cole Slaw\, Brioche Slider Bun \nAppetizer Platter \nAlso enjoy $16 pizza all day.  \n\nThe kitchen will close at 8pm. We will keep the bar open until the game is over\, and happy hour will be available until the game is over. \n\n 
URL:https://kingsmill.com/event/super-bowl-specials/
LOCATION:Eagles
ATTACH;FMTTYPE=image/jpeg:https://kingsmill.com/wp-content/uploads/2025/01/superbowlspecials-1.jpg
END:VEVENT
END:VCALENDAR