BEGIN:VCALENDAR
VERSION:2.0
PRODID:-//Kingsmill Resort and Realty - ECPv6.15.20//NONSGML v1.0//EN
CALSCALE:GREGORIAN
METHOD:PUBLISH
X-WR-CALNAME:Kingsmill Resort and Realty
X-ORIGINAL-URL:https://kingsmill.com
X-WR-CALDESC:Events for Kingsmill Resort and Realty
REFRESH-INTERVAL;VALUE=DURATION:PT1H
X-Robots-Tag:noindex
X-PUBLISHED-TTL:PT1H
BEGIN:VTIMEZONE
TZID:UTC
BEGIN:STANDARD
TZOFFSETFROM:+0000
TZOFFSETTO:+0000
TZNAME:UTC
DTSTART:20240101T000000
END:STANDARD
END:VTIMEZONE
BEGIN:VEVENT
DTSTART;TZID=UTC:20250315T170000
DTEND;TZID=UTC:20250315T210000
DTSTAMP:20260422T000808
CREATED:20250306T004555Z
LAST-MODIFIED:20250311T232237Z
UID:39383-1742058000-1742072400@kingsmill.com
SUMMARY:St. Patrick's Day Bash
DESCRIPTION:Join us at Eagles Bar and Patio for a St. Patrick’s Day Celebration on Saturday\, March 15! Enjoy Irish dishes and drinks\, and live Irish-Styled music from Donnaka!  \nView Food and Drink Specials Here
URL:https://kingsmill.com/event/st-patricks-day-bash/
LOCATION:Eagles
ATTACH;FMTTYPE=image/jpeg:https://kingsmill.com/wp-content/uploads/2025/03/StPatDay.jpg
END:VEVENT
END:VCALENDAR