BEGIN:VCALENDAR
VERSION:2.0
PRODID:-//Kingsmill Resort and Realty - ECPv6.15.20//NONSGML v1.0//EN
CALSCALE:GREGORIAN
METHOD:PUBLISH
X-WR-CALNAME:Kingsmill Resort and Realty
X-ORIGINAL-URL:https://kingsmill.com
X-WR-CALDESC:Events for Kingsmill Resort and Realty
REFRESH-INTERVAL;VALUE=DURATION:PT1H
X-Robots-Tag:noindex
X-PUBLISHED-TTL:PT1H
BEGIN:VTIMEZONE
TZID:UTC
BEGIN:STANDARD
TZOFFSETFROM:+0000
TZOFFSETTO:+0000
TZNAME:UTC
DTSTART:20240101T000000
END:STANDARD
END:VTIMEZONE
BEGIN:VEVENT
DTSTART;TZID=UTC:20250322T170000
DTEND;TZID=UTC:20250322T200000
DTSTAMP:20260422T000717
CREATED:20250218T003714Z
LAST-MODIFIED:20250218T003714Z
UID:39266-1742662800-1742673600@kingsmill.com
SUMMARY:Live Music - Patrick Ryan
DESCRIPTION:Join us for dinner\, drinks and live music from Patrick Ryan!
URL:https://kingsmill.com/event/live-music-patrick-ryan-4/
LOCATION:James Landing Grille
ATTACH;FMTTYPE=image/jpeg:https://kingsmill.com/wp-content/uploads/2024/06/JLG-1-1.jpg
END:VEVENT
BEGIN:VEVENT
DTSTART;TZID=UTC:20250322T180000
DTEND;TZID=UTC:20250322T200000
DTSTAMP:20260422T000717
CREATED:20250312T220727Z
LAST-MODIFIED:20250312T220803Z
UID:39422-1742666400-1742673600@kingsmill.com
SUMMARY:Kids Indoor Pool Party
DESCRIPTION:Join us at the indoor pool in the fitness center for a pool party! Enjoy music and snacks. Attendance is free. 
URL:https://kingsmill.com/event/indoor-pool-party/
LOCATION:Indoor Pool
ATTACH;FMTTYPE=image/jpeg:https://kingsmill.com/wp-content/uploads/2025/03/IndoorPoolPic.jpg
END:VEVENT
END:VCALENDAR