BEGIN:VCALENDAR
VERSION:2.0
PRODID:-//Kingsmill Resort and Realty - ECPv6.15.20//NONSGML v1.0//EN
CALSCALE:GREGORIAN
METHOD:PUBLISH
X-WR-CALNAME:Kingsmill Resort and Realty
X-ORIGINAL-URL:https://kingsmill.com
X-WR-CALDESC:Events for Kingsmill Resort and Realty
REFRESH-INTERVAL;VALUE=DURATION:PT1H
X-Robots-Tag:noindex
X-PUBLISHED-TTL:PT1H
BEGIN:VTIMEZONE
TZID:UTC
BEGIN:STANDARD
TZOFFSETFROM:+0000
TZOFFSETTO:+0000
TZNAME:UTC
DTSTART:20240101T000000
END:STANDARD
END:VTIMEZONE
BEGIN:VEVENT
DTSTART;TZID=UTC:20250326T083000
DTEND;TZID=UTC:20250326T170000
DTSTAMP:20260422T000807
CREATED:20250319T235321Z
LAST-MODIFIED:20250319T235646Z
UID:39466-1742977800-1743008400@kingsmill.com
SUMMARY:Golf and Dining Open House
DESCRIPTION:Are you interested in learning more about The Club at Kingsmill? Join us for a Golf and Dining Open House! You can experience the River Course and only pay a $30 cart fee\, then enjoy all day Happy Hour and Food and Beverage Specials at Eagles! \nRSVP by emailing Madeline.Merrick@Kingsmill.com.
URL:https://kingsmill.com/event/golf-and-dining-open-house/
LOCATION:River Course
ATTACH;FMTTYPE=image/jpeg:https://kingsmill.com/wp-content/uploads/2025/02/ExecGolf.jpg
END:VEVENT
END:VCALENDAR