BEGIN:VCALENDAR
VERSION:2.0
PRODID:-//Kingsmill Resort and Realty - ECPv6.15.20//NONSGML v1.0//EN
CALSCALE:GREGORIAN
METHOD:PUBLISH
X-ORIGINAL-URL:https://kingsmill.com
X-WR-CALDESC:Events for Kingsmill Resort and Realty
REFRESH-INTERVAL;VALUE=DURATION:PT1H
X-Robots-Tag:noindex
X-PUBLISHED-TTL:PT1H
BEGIN:VTIMEZONE
TZID:UTC
BEGIN:STANDARD
TZOFFSETFROM:+0000
TZOFFSETTO:+0000
TZNAME:UTC
DTSTART:20240101T000000
END:STANDARD
END:VTIMEZONE
BEGIN:VEVENT
DTSTART;TZID=UTC:20250407T110000
DTEND;TZID=UTC:20250407T200000
DTSTAMP:20260421T224327
CREATED:20250314T235441Z
LAST-MODIFIED:20250314T235441Z
UID:39434-1744023600-1744056000@kingsmill.com
SUMMARY:National Beer Day
DESCRIPTION:Join us at Eagles to celebrate National Beer Day with all-day Happy Hour! Cheers!
URL:https://kingsmill.com/event/national-beer-day/
LOCATION:Eagles
ATTACH;FMTTYPE=image/jpeg:https://kingsmill.com/wp-content/uploads/2025/01/superbowlspecials-1.jpg
END:VEVENT
END:VCALENDAR