BEGIN:VCALENDAR
VERSION:2.0
PRODID:-//Kingsmill Resort and Realty - ECPv6.15.20//NONSGML v1.0//EN
CALSCALE:GREGORIAN
METHOD:PUBLISH
X-WR-CALNAME:Kingsmill Resort and Realty
X-ORIGINAL-URL:https://kingsmill.com
X-WR-CALDESC:Events for Kingsmill Resort and Realty
REFRESH-INTERVAL;VALUE=DURATION:PT1H
X-Robots-Tag:noindex
X-PUBLISHED-TTL:PT1H
BEGIN:VTIMEZONE
TZID:UTC
BEGIN:STANDARD
TZOFFSETFROM:+0000
TZOFFSETTO:+0000
TZNAME:UTC
DTSTART:20240101T000000
END:STANDARD
END:VTIMEZONE
BEGIN:VEVENT
DTSTART;VALUE=DATE:20250410
DTEND;VALUE=DATE:20250414
DTSTAMP:20260421T224317
CREATED:20250325T000112Z
LAST-MODIFIED:20250403T233534Z
UID:39477-1744243200-1744588799@kingsmill.com
SUMMARY:Masters Weekend Food and Beverage Specials
DESCRIPTION:Join us at Eagles to celebrate Masters Weekend with delicious Food and Beverage Specials! Available during operating hours.  \nClick Here to View Menu
URL:https://kingsmill.com/event/masters-weekend-food-and-beverage-specials/
LOCATION:Eagles
ATTACH;FMTTYPE=image/jpeg:https://kingsmill.com/wp-content/uploads/2025/03/MastersSpecials.jpg
END:VEVENT
BEGIN:VEVENT
DTSTART;TZID=UTC:20250411T100000
DTEND;TZID=UTC:20250411T160000
DTSTAMP:20260421T224317
CREATED:20250301T030713Z
LAST-MODIFIED:20250318T215537Z
UID:39369-1744365600-1744387200@kingsmill.com
SUMMARY:Young Executive Exclusive Golf Event
DESCRIPTION:Click here to RSVP. \nYou and a friend are cordially invited to join us for an exclusive private golf event and preview of Kingsmill’s new Young Executive Golf Membership opportunity at the Woods Course on Friday\, April 11. We welcome your friends and associates\, who you believe would enjoy learning about the benefits of this new membership opportunity\, to enjoy a beautiful spring day of fun in the sun. Following 18 holes\, you’ll mix and mingle at our after party featuring complimentary tasty bites & sips. \nPRICING \nMember: $75 (complimentary if accompanied by a prospective Young Executive Guest*)\nGuest: $100 \nSCHEDULE OF EVENTS \n10am Welcome Registration & Warmup\n11am Shotgun Start\n4pm After Party \nAttendees enjoy a special invitation to join as a Young Executive Golf Member at Kingsmill. \nRSVPs REQUIRED (Event is limited to 24 Guests) \n*Young Executive is defined as age 45 and younger
URL:https://kingsmill.com/event/young-executive-kick-off-tournament/
LOCATION:Woods Course
ATTACH;FMTTYPE=image/jpeg:https://kingsmill.com/wp-content/uploads/2025/02/ExecGolf.jpg
END:VEVENT
BEGIN:VEVENT
DTSTART;TZID=UTC:20250411T183000
DTEND;TZID=UTC:20250411T200000
DTSTAMP:20260421T224317
CREATED:20250315T000020Z
LAST-MODIFIED:20250401T222723Z
UID:39436-1744396200-1744401600@kingsmill.com
SUMMARY:Glow Golf
DESCRIPTION:Join us at the River Course Putting Green for a night of glow golf!
URL:https://kingsmill.com/event/glow-golf-9/
LOCATION:River Course Putting Green
ATTACH;FMTTYPE=image/jpeg:https://kingsmill.com/wp-content/uploads/2024/11/GlowGolf.jpg
END:VEVENT
END:VCALENDAR