BEGIN:VCALENDAR
VERSION:2.0
PRODID:-//Kingsmill Resort and Realty - ECPv6.15.20//NONSGML v1.0//EN
CALSCALE:GREGORIAN
METHOD:PUBLISH
X-WR-CALNAME:Kingsmill Resort and Realty
X-ORIGINAL-URL:https://kingsmill.com
X-WR-CALDESC:Events for Kingsmill Resort and Realty
REFRESH-INTERVAL;VALUE=DURATION:PT1H
X-Robots-Tag:noindex
X-PUBLISHED-TTL:PT1H
BEGIN:VTIMEZONE
TZID:UTC
BEGIN:STANDARD
TZOFFSETFROM:+0000
TZOFFSETTO:+0000
TZNAME:UTC
DTSTART:20240101T000000
END:STANDARD
END:VTIMEZONE
BEGIN:VEVENT
DTSTART;VALUE=DATE:20250410
DTEND;VALUE=DATE:20250414
DTSTAMP:20260421T224318
CREATED:20250325T000112Z
LAST-MODIFIED:20250403T233534Z
UID:39477-1744243200-1744588799@kingsmill.com
SUMMARY:Masters Weekend Food and Beverage Specials
DESCRIPTION:Join us at Eagles to celebrate Masters Weekend with delicious Food and Beverage Specials! Available during operating hours.  \nClick Here to View Menu
URL:https://kingsmill.com/event/masters-weekend-food-and-beverage-specials/
LOCATION:Eagles
ATTACH;FMTTYPE=image/jpeg:https://kingsmill.com/wp-content/uploads/2025/03/MastersSpecials.jpg
END:VEVENT
BEGIN:VEVENT
DTSTART;TZID=UTC:20250412T170000
DTEND;TZID=UTC:20250412T200000
DTSTAMP:20260421T224318
CREATED:20250326T004935Z
LAST-MODIFIED:20250326T004935Z
UID:39481-1744477200-1744488000@kingsmill.com
SUMMARY:Live Music - Lane Rice
DESCRIPTION:Join us for dinner\, drinks and live music featuring Lane Rice!
URL:https://kingsmill.com/event/live-music-lane-rice-3/
LOCATION:James Landing Grille
ATTACH;FMTTYPE=image/jpeg:https://kingsmill.com/wp-content/uploads/2025/02/Whats-Happening-2.jpg
END:VEVENT
END:VCALENDAR