BEGIN:VCALENDAR
VERSION:2.0
PRODID:-//Kingsmill Resort and Realty - ECPv6.15.20//NONSGML v1.0//EN
CALSCALE:GREGORIAN
METHOD:PUBLISH
X-ORIGINAL-URL:https://kingsmill.com
X-WR-CALDESC:Events for Kingsmill Resort and Realty
REFRESH-INTERVAL;VALUE=DURATION:PT1H
X-Robots-Tag:noindex
X-PUBLISHED-TTL:PT1H
BEGIN:VTIMEZONE
TZID:UTC
BEGIN:STANDARD
TZOFFSETFROM:+0000
TZOFFSETTO:+0000
TZNAME:UTC
DTSTART:20240101T000000
END:STANDARD
END:VTIMEZONE
BEGIN:VEVENT
DTSTART;TZID=UTC:20250425T180000
DTEND;TZID=UTC:20250425T200000
DTSTAMP:20260421T211702
CREATED:20250407T184846Z
LAST-MODIFIED:20250407T184900Z
UID:39588-1745604000-1745611200@kingsmill.com
SUMMARY:Kids Pool Party
DESCRIPTION:Join us at the indoor pool in the fitness center for a pool party! Enjoy music and snacks. Attendance is free.
URL:https://kingsmill.com/event/kids-pool-party-2/
LOCATION:Indoor Pool
ATTACH;FMTTYPE=image/jpeg:https://kingsmill.com/wp-content/uploads/2025/03/IndoorPoolPic.jpg
END:VEVENT
END:VCALENDAR