BEGIN:VCALENDAR
VERSION:2.0
PRODID:-//Kingsmill Resort and Realty - ECPv6.15.20//NONSGML v1.0//EN
CALSCALE:GREGORIAN
METHOD:PUBLISH
X-WR-CALNAME:Kingsmill Resort and Realty
X-ORIGINAL-URL:https://kingsmill.com
X-WR-CALDESC:Events for Kingsmill Resort and Realty
REFRESH-INTERVAL;VALUE=DURATION:PT1H
X-Robots-Tag:noindex
X-PUBLISHED-TTL:PT1H
BEGIN:VTIMEZONE
TZID:UTC
BEGIN:STANDARD
TZOFFSETFROM:+0000
TZOFFSETTO:+0000
TZNAME:UTC
DTSTART:20240101T000000
END:STANDARD
END:VTIMEZONE
BEGIN:VEVENT
DTSTART;TZID=UTC:20250430T160000
DTEND;TZID=UTC:20250430T200000
DTSTAMP:20260421T211359
CREATED:20250422T194814Z
LAST-MODIFIED:20250422T194814Z
UID:39663-1746028800-1746043200@kingsmill.com
SUMMARY:James Landing Grille Community Open House
DESCRIPTION:Do you have any friends or family interested in learning more about The Club at Kingsmill and what it is like to be a Member? We are hosting an open house for the local community and Kingsmill community to experience living like a Member for an evening! Invite your friends and family to RSVP for a night of drink and food specials at James Landing Grille from 4 PM – 8 PM. \nIf you know of anyone who would like to RSVP for a spot\, please have them reach out to Madeline Merrick by Tuesday\, April 29.
URL:https://kingsmill.com/event/james-landing-grille-community-open-house/
LOCATION:James Landing Grille
ATTACH;FMTTYPE=image/jpeg:https://kingsmill.com/wp-content/uploads/2024/06/JLG-1-1.jpg
END:VEVENT
END:VCALENDAR