BEGIN:VCALENDAR
VERSION:2.0
PRODID:-//Kingsmill Resort and Realty - ECPv6.15.20//NONSGML v1.0//EN
CALSCALE:GREGORIAN
METHOD:PUBLISH
X-WR-CALNAME:Kingsmill Resort and Realty
X-ORIGINAL-URL:https://kingsmill.com
X-WR-CALDESC:Events for Kingsmill Resort and Realty
REFRESH-INTERVAL;VALUE=DURATION:PT1H
X-Robots-Tag:noindex
X-PUBLISHED-TTL:PT1H
BEGIN:VTIMEZONE
TZID:UTC
BEGIN:STANDARD
TZOFFSETFROM:+0000
TZOFFSETTO:+0000
TZNAME:UTC
DTSTART:20240101T000000
END:STANDARD
END:VTIMEZONE
BEGIN:VEVENT
DTSTART;VALUE=DATE:20250503
DTEND;VALUE=DATE:20250506
DTSTAMP:20260421T194455
CREATED:20250415T214420Z
LAST-MODIFIED:20250415T214420Z
UID:39613-1746230400-1746489599@kingsmill.com
SUMMARY:Cinco de Mayo Specials
DESCRIPTION:Join us at Eagles for delicious Cinco de Mayo specials! More details coming soon. \nAvailable during operational hours Saturday\, May 3 – Monday\, May 5.
URL:https://kingsmill.com/event/cinco-de-mayo-specials-2/
LOCATION:Eagles
ATTACH;FMTTYPE=image/jpeg:https://kingsmill.com/wp-content/uploads/2025/04/Cincodemayo.jpg
END:VEVENT
END:VCALENDAR