BEGIN:VCALENDAR
VERSION:2.0
PRODID:-//Kingsmill Resort and Realty - ECPv6.15.20//NONSGML v1.0//EN
CALSCALE:GREGORIAN
METHOD:PUBLISH
X-WR-CALNAME:Kingsmill Resort and Realty
X-ORIGINAL-URL:https://kingsmill.com
X-WR-CALDESC:Events for Kingsmill Resort and Realty
REFRESH-INTERVAL;VALUE=DURATION:PT1H
X-Robots-Tag:noindex
X-PUBLISHED-TTL:PT1H
BEGIN:VTIMEZONE
TZID:UTC
BEGIN:STANDARD
TZOFFSETFROM:+0000
TZOFFSETTO:+0000
TZNAME:UTC
DTSTART:20240101T000000
END:STANDARD
END:VTIMEZONE
BEGIN:VEVENT
DTSTART;TZID=UTC:20250509T160000
DTEND;TZID=UTC:20250509T210000
DTSTAMP:20260421T211451
CREATED:20250415T220020Z
LAST-MODIFIED:20250415T220020Z
UID:39626-1746806400-1746824400@kingsmill.com
SUMMARY:National Shrimp Day
DESCRIPTION:Join us at James Landing Grille to celebrate National Shrimp Day with delicious shrimp specials!
URL:https://kingsmill.com/event/national-shrimp-day-2/
LOCATION:James Landing Grille
ATTACH;FMTTYPE=image/jpeg:https://kingsmill.com/wp-content/uploads/2025/04/ShrimpDay.jpg
END:VEVENT
END:VCALENDAR