BEGIN:VCALENDAR
VERSION:2.0
PRODID:-//Kingsmill Resort and Realty - ECPv6.15.20//NONSGML v1.0//EN
CALSCALE:GREGORIAN
METHOD:PUBLISH
X-ORIGINAL-URL:https://kingsmill.com
X-WR-CALDESC:Events for Kingsmill Resort and Realty
REFRESH-INTERVAL;VALUE=DURATION:PT1H
X-Robots-Tag:noindex
X-PUBLISHED-TTL:PT1H
BEGIN:VTIMEZONE
TZID:UTC
BEGIN:STANDARD
TZOFFSETFROM:+0000
TZOFFSETTO:+0000
TZNAME:UTC
DTSTART:20240101T000000
END:STANDARD
END:VTIMEZONE
BEGIN:VEVENT
DTSTART;TZID=UTC:20250511T103000
DTEND;TZID=UTC:20250511T130000
DTSTAMP:20260421T211652
CREATED:20250401T230822Z
LAST-MODIFIED:20250510T232653Z
UID:39520-1746959400-1746968400@kingsmill.com
SUMMARY:Mother's Day Brunch Buffet 2025
DESCRIPTION:AT THIS TIME WE ARE NO LONGER TAKING RESERVATIONS FOR MOTHER’S DAY BRUNCH. HOWEVER\, WALKINS ARE STILL WELCOME. \nJoin us in the James River Grand Ballroom for a Mother’s Day Brunch Buffet! View menu here.  \nReservations are available every half hour.  \n$63.20* Member 13+ | $29.60* Member ages 6-12  \n$79* Registered Resort Guest | $37* Registered Resort Guests ages 6-12 \n*Tax and gratuity not included. \n  \n 
URL:https://kingsmill.com/event/mothers-day-brunch-buffet-2025/
LOCATION:James River Grand Ballroom
ATTACH;FMTTYPE=image/jpeg:https://kingsmill.com/wp-content/uploads/2025/04/MothersDay.jpg
END:VEVENT
END:VCALENDAR