BEGIN:VCALENDAR
VERSION:2.0
PRODID:-//Kingsmill Resort and Realty - ECPv6.15.20//NONSGML v1.0//EN
CALSCALE:GREGORIAN
METHOD:PUBLISH
X-ORIGINAL-URL:https://kingsmill.com
X-WR-CALDESC:Events for Kingsmill Resort and Realty
REFRESH-INTERVAL;VALUE=DURATION:PT1H
X-Robots-Tag:noindex
X-PUBLISHED-TTL:PT1H
BEGIN:VTIMEZONE
TZID:UTC
BEGIN:STANDARD
TZOFFSETFROM:+0000
TZOFFSETTO:+0000
TZNAME:UTC
DTSTART:20240101T000000
END:STANDARD
END:VTIMEZONE
BEGIN:VEVENT
DTSTART;TZID=UTC:20250520T193000
DTEND;TZID=UTC:20250520T213000
DTSTAMP:20260421T211626
CREATED:20250415T215435Z
LAST-MODIFIED:20250513T224103Z
UID:39621-1747769400-1747776600@kingsmill.com
SUMMARY:Moody's Tuesday Nightcap
DESCRIPTION:Join us on the first and third Tuesday of each month at Moody’s for our Tuesday Nightcap! Prior to arriving at Moody’s\, you must go to Eagle’s Bar that day to get the password for entry. \nEnjoy live music\, a pool table\, a cash bar\, beautiful waterfront views\, and quality time with your fellow Members! \nMay 20th Live Music: James Ford \n*Moody’s is located on the 5th floor of the main resort building. \nWe are now offering childcare for children ages 5 – 13 from 7:30 PM – 9:30 PM in Tazwell. The cost is $15/ child\, and you must RSVP. \nCLICK HERE TO RSVP FOR CHILDCARE \nIf you have any questions\, please reach out to Madeline Merrick.
URL:https://kingsmill.com/event/moodys-tuesday-nightcap-4/
ATTACH;FMTTYPE=image/jpeg:https://kingsmill.com/wp-content/uploads/2025/03/Moodys2024.jpg
END:VEVENT
END:VCALENDAR