BEGIN:VCALENDAR
VERSION:2.0
PRODID:-//Kingsmill Resort and Realty - ECPv6.15.20//NONSGML v1.0//EN
CALSCALE:GREGORIAN
METHOD:PUBLISH
X-WR-CALNAME:Kingsmill Resort and Realty
X-ORIGINAL-URL:https://kingsmill.com
X-WR-CALDESC:Events for Kingsmill Resort and Realty
REFRESH-INTERVAL;VALUE=DURATION:PT1H
X-Robots-Tag:noindex
X-PUBLISHED-TTL:PT1H
BEGIN:VTIMEZONE
TZID:UTC
BEGIN:STANDARD
TZOFFSETFROM:+0000
TZOFFSETTO:+0000
TZNAME:UTC
DTSTART:20240101T000000
END:STANDARD
END:VTIMEZONE
BEGIN:VEVENT
DTSTART;VALUE=DATE:20250523
DTEND;VALUE=DATE:20250527
DTSTAMP:20260421T211400
CREATED:20250428T231321Z
LAST-MODIFIED:20250428T231321Z
UID:39759-1747958400-1748303999@kingsmill.com
SUMMARY:Daily Rentals: Fishing Poles & Kayaks
DESCRIPTION:Visit the Kingsmill Marina to get your supplies\, and get on the water! We’ll be offering rentals on our Fishing Poles and Kayaks all weekend long!
URL:https://kingsmill.com/event/daily-rentals-fishing-poles-kayaks/
LOCATION:Kingsmill Marina
ATTACH;FMTTYPE=image/jpeg:https://kingsmill.com/wp-content/uploads/2025/04/kyak.jpg
END:VEVENT
BEGIN:VEVENT
DTSTART;VALUE=DATE:20250523
DTEND;VALUE=DATE:20250527
DTSTAMP:20260421T211400
CREATED:20250428T232429Z
LAST-MODIFIED:20250429T185001Z
UID:39763-1747958400-1748303999@kingsmill.com
SUMMARY:Sandcastle Kits\, Half Priced Jet Ski Trips and an Evening Bonfire
DESCRIPTION:Visit the Kingsmill Marina this Memorial Day Weekend to take advantage of deals on Sandcastle Kits\, half-priced Jet Ski trips and a bonfire each evening! \nBonfire is by reservation only. Call Isaac at (757)253-3919 to reserve your Memorial Day experience today!
URL:https://kingsmill.com/event/sandcastle-kits-jetski-trips-and-an-evening-bonfire/
LOCATION:Kingsmill Marina
ATTACH;FMTTYPE=image/jpeg:https://kingsmill.com/wp-content/uploads/2025/04/kyak.jpg
END:VEVENT
BEGIN:VEVENT
DTSTART;VALUE=DATE:20250523
DTEND;VALUE=DATE:20250527
DTSTAMP:20260421T211400
CREATED:20250428T235648Z
LAST-MODIFIED:20250428T235648Z
UID:39773-1747958400-1748303999@kingsmill.com
SUMMARY:$5 S'more Kits
DESCRIPTION:Celebrate Memorial Day Weekend with a sweet treat! Stop by the front desk to get your S’more Kit for only $5!
URL:https://kingsmill.com/event/5-smore-kits/
ATTACH;FMTTYPE=image/jpeg:https://kingsmill.com/wp-content/uploads/2025/04/smore.jpg
END:VEVENT
BEGIN:VEVENT
DTSTART;VALUE=DATE:20250523
DTEND;VALUE=DATE:20250527
DTSTAMP:20260421T211400
CREATED:20250429T184501Z
LAST-MODIFIED:20250429T184501Z
UID:39787-1747958400-1748303999@kingsmill.com
SUMMARY:River Pool Yard Games
DESCRIPTION:Join us at the River Pool and celebrate Memorial Day weekend in style. \nBeside the River Pool\, enjoy yard games! Ladder Ball\, Corn Hole\, & Hula Hoops
URL:https://kingsmill.com/event/river-pool-yard-games/
LOCATION:River Pool
ATTACH;FMTTYPE=image/jpeg:https://kingsmill.com/wp-content/uploads/2025/04/RiverPoolEvent.jpg
END:VEVENT
BEGIN:VEVENT
DTSTART;TZID=UTC:20250523T090000
DTEND;TZID=UTC:20250526T170000
DTSTAMP:20260421T211400
CREATED:20250429T184031Z
LAST-MODIFIED:20250429T184031Z
UID:39783-1747990800-1748278800@kingsmill.com
SUMMARY:Memorial Day Spa Package
DESCRIPTION:Treat yourself to our Memorial Day Spa Package\, available 5/23 – 5/26\, 9 AM – 5 PM.  \nOne 50-minute Swedish Massage + One 50-minute Renewing or Golfers Facial for $220 \nCall the Spa to make your appointment – 757-564-5353.
URL:https://kingsmill.com/event/memorial-day-spa-package/
LOCATION:Kingsmill Spa
ATTACH;FMTTYPE=image/jpeg:https://kingsmill.com/wp-content/uploads/2025/04/SpaDeal.jpg
END:VEVENT
BEGIN:VEVENT
DTSTART;TZID=UTC:20250523T100000
DTEND;TZID=UTC:20250526T113000
DTSTAMP:20260421T211400
CREATED:20250428T233731Z
LAST-MODIFIED:20250429T174115Z
UID:39768-1747994400-1748259000@kingsmill.com
SUMMARY:Daily Tennis Clinic
DESCRIPTION:Memorial Day Weekend Daily Clinic with The Pro \nEvery day all weekend long | 10:00am-11:30am. \nRates: $25 \nAll levels. Open to the public. \nPlease call the tennis shop at 757-253-3945 to register.
URL:https://kingsmill.com/event/daily-tennis-clinic/
ATTACH;FMTTYPE=image/jpeg:https://kingsmill.com/wp-content/uploads/2025/04/tennis.jpg
END:VEVENT
BEGIN:VEVENT
DTSTART;TZID=UTC:20250523T110000
DTEND;TZID=UTC:20250524T220000
DTSTAMP:20260421T211400
CREATED:20250428T210512Z
LAST-MODIFIED:20250523T204505Z
UID:39734-1747998000-1748124000@kingsmill.com
SUMMARY:Memorial Day Specials
DESCRIPTION:Join us at Eagles for delicious Memorial Day food and beverage specials!  \nClick here to view specials
URL:https://kingsmill.com/event/memorial-day-specials-2/
LOCATION:Eagles
ATTACH;FMTTYPE=image/jpeg:https://kingsmill.com/wp-content/uploads/2024/08/Eagles-1.jpg
END:VEVENT
BEGIN:VEVENT
DTSTART;TZID=UTC:20250523T160000
DTEND;TZID=UTC:20250525T210000
DTSTAMP:20260421T211400
CREATED:20250428T210044Z
LAST-MODIFIED:20250523T204548Z
UID:39732-1748016000-1748206800@kingsmill.com
SUMMARY:Memorial Day Specials
DESCRIPTION:Join us at James Landing Grille for delicious Memorial Day food and beverage specials!  \nClick here to view specials
URL:https://kingsmill.com/event/memorial-day-specials/
LOCATION:James Landing Grille
ATTACH;FMTTYPE=image/jpeg:https://kingsmill.com/wp-content/uploads/2024/06/JLG.jpg
END:VEVENT
BEGIN:VEVENT
DTSTART;TZID=UTC:20250523T160000
DTEND;TZID=UTC:20250526T163000
DTSTAMP:20260421T211400
CREATED:20250428T214216Z
LAST-MODIFIED:20250428T214216Z
UID:39752-1748016000-1748277000@kingsmill.com
SUMMARY:Duck Races
DESCRIPTION:Celebrate Memorial Day with a Rubber Duck Race at the River Pool! We’ll provide the duck — you bring the spirit! Watch your duck race around the lazy river for a chance to win a prize. Fun for kids and adults alike!
URL:https://kingsmill.com/event/duck-races/
LOCATION:River Pool
ATTACH;FMTTYPE=image/jpeg:https://kingsmill.com/wp-content/uploads/2025/04/DuckRaces2024.jpg
END:VEVENT
BEGIN:VEVENT
DTSTART;TZID=UTC:20250524T110000
DTEND;TZID=UTC:20250526T170000
DTSTAMP:20260421T211400
CREATED:20250428T211712Z
LAST-MODIFIED:20250429T214020Z
UID:39741-1748084400-1748278800@kingsmill.com
SUMMARY:$1 Ice Cream Scoops
DESCRIPTION:Celebrate Memorial Day with $1 Ice Cream scoops all weekend at The Mill! 
URL:https://kingsmill.com/event/1-ice-cream-scoops/
LOCATION:The Mill
ATTACH;FMTTYPE=image/jpeg:https://kingsmill.com/wp-content/uploads/2025/01/IceCreamDay.jpg
END:VEVENT
BEGIN:VEVENT
DTSTART;TZID=UTC:20250524T120000
DTEND;TZID=UTC:20250524T160000
DTSTAMP:20260421T211400
CREATED:20250428T213032Z
LAST-MODIFIED:20250429T221930Z
UID:39748-1748088000-1748102400@kingsmill.com
SUMMARY:River Pool Music
DESCRIPTION:Join us at the River Pool for live music from DJ E Shorty\, sunshine and splashes\, and delicious food and drinks from Currents Bar!
URL:https://kingsmill.com/event/river-pool-music-5/
LOCATION:River Pool
ATTACH;FMTTYPE=image/jpeg:https://kingsmill.com/wp-content/uploads/2025/04/RiverPoolEvent.jpg
END:VEVENT
BEGIN:VEVENT
DTSTART;TZID=UTC:20250524T170000
DTEND;TZID=UTC:20250524T200000
DTSTAMP:20260421T211400
CREATED:20250428T211319Z
LAST-MODIFIED:20250428T211340Z
UID:39739-1748106000-1748116800@kingsmill.com
SUMMARY:Live Music - Todd Murray
DESCRIPTION:Join us for dinner\, drinks\, and live music featuring Todd Murray. 
URL:https://kingsmill.com/event/live-music-todd-murray-2/
LOCATION:James Landing Grille
ATTACH;FMTTYPE=image/jpeg:https://kingsmill.com/wp-content/uploads/2024/09/JLG-1.jpg
END:VEVENT
BEGIN:VEVENT
DTSTART;TZID=UTC:20250524T180000
DTEND;TZID=UTC:20250524T210000
DTSTAMP:20260421T211400
CREATED:20250428T224356Z
LAST-MODIFIED:20250524T002142Z
UID:39757-1748109600-1748120400@kingsmill.com
SUMMARY:Luau Party with Live Music
DESCRIPTION:Head to the River Pool for a Luau Party you won’t want to miss! \nOur Culinary Team will be busy smoking a whole hog and will be serving Pulled Pork Sandwiches to order with your choice of coleslaw\, potato salad\, or fresh fruit starting at 5 PM. From 6 PM – 9 PM\, enjoy live music from Hungry Hard Luck Heroes—a Jimmy Buffett tribute band bringing all the beachy tunes you love. \nView menu here!
URL:https://kingsmill.com/event/luau-party-with-live-music/
LOCATION:River Pool
ATTACH;FMTTYPE=image/jpeg:https://kingsmill.com/wp-content/uploads/2025/04/RiverPoolEvent.jpg
END:VEVENT
END:VCALENDAR