BEGIN:VCALENDAR
VERSION:2.0
PRODID:-//Kingsmill Resort and Realty - ECPv6.15.20//NONSGML v1.0//EN
CALSCALE:GREGORIAN
METHOD:PUBLISH
X-WR-CALNAME:Kingsmill Resort and Realty
X-ORIGINAL-URL:https://kingsmill.com
X-WR-CALDESC:Events for Kingsmill Resort and Realty
REFRESH-INTERVAL;VALUE=DURATION:PT1H
X-Robots-Tag:noindex
X-PUBLISHED-TTL:PT1H
BEGIN:VTIMEZONE
TZID:UTC
BEGIN:STANDARD
TZOFFSETFROM:+0000
TZOFFSETTO:+0000
TZNAME:UTC
DTSTART:20240101T000000
END:STANDARD
END:VTIMEZONE
BEGIN:VEVENT
DTSTART;TZID=UTC:20250531T093000
DTEND;TZID=UTC:20250531T120000
DTSTAMP:20260421T182357
CREATED:20250508T213700Z
LAST-MODIFIED:20250508T213822Z
UID:39858-1748683800-1748692800@kingsmill.com
SUMMARY:Open House
DESCRIPTION:CLICK HERE TO RSVP  & LEARN MORE \nInterested in learning more or joining The Club at Kingsmill? Join us for an Open House on Saturday\, May 31.  \nAttendees enjoy an exclusive day-of Membership Enrollment Incentive! \n9:30am | Welcome Reception – Join us for complimentary refreshments\n11:00am | Tee Times \nPLUS: Enjoy ALL DAY ACCESS to the Outdoor Pool\, Fitness Center\, Tennis/Pickleball and non-motorized Marina rentals. \nCLICK HERE TO RSVP & LEARN MORE
URL:https://kingsmill.com/event/open-house/
ATTACH;FMTTYPE=image/jpeg:https://kingsmill.com/wp-content/uploads/2025/05/JLGDinner.jpg
END:VEVENT
BEGIN:VEVENT
DTSTART;TZID=UTC:20250531T170000
DTEND;TZID=UTC:20250531T200000
DTSTAMP:20260421T182357
CREATED:20250415T223350Z
LAST-MODIFIED:20250513T184317Z
UID:39637-1748710800-1748721600@kingsmill.com
SUMMARY:Live Music - Sammy Lee
DESCRIPTION:Join us at James Landing Grille for dinner\, drinks and live music from Sammy Lee!
URL:https://kingsmill.com/event/live-music-sammy-lee-4/
LOCATION:James Landing Grille
ATTACH;FMTTYPE=image/jpeg:https://kingsmill.com/wp-content/uploads/2025/05/JLGDinner.jpg
END:VEVENT
END:VCALENDAR