BEGIN:VCALENDAR
VERSION:2.0
PRODID:-//Kingsmill Resort and Realty - ECPv6.15.20//NONSGML v1.0//EN
CALSCALE:GREGORIAN
METHOD:PUBLISH
X-ORIGINAL-URL:https://kingsmill.com
X-WR-CALDESC:Events for Kingsmill Resort and Realty
REFRESH-INTERVAL;VALUE=DURATION:PT1H
X-Robots-Tag:noindex
X-PUBLISHED-TTL:PT1H
BEGIN:VTIMEZONE
TZID:UTC
BEGIN:STANDARD
TZOFFSETFROM:+0000
TZOFFSETTO:+0000
TZNAME:UTC
DTSTART:20240101T000000
END:STANDARD
END:VTIMEZONE
BEGIN:VEVENT
DTSTART;TZID=UTC:20250601T000100
DTEND;TZID=UTC:20250630T235900
DTSTAMP:20260421T182530
CREATED:20250602T223232Z
LAST-MODIFIED:20250602T224749Z
UID:40025-1748736060-1751327940@kingsmill.com
SUMMARY:June Specialty Drinks at The Mill
DESCRIPTION:Try these delicious drink specials\, available at The Mill from June 1 – June 30.  \nStrawberries & Cream Latte – White Chocolate and Strawberry \nBanana Split Latte – White Chocolate and Banana \nSalty Turtle Latte – Chocolate\, Hazelnut and Salted Caramel \nSmore’s Latte – Toasted Marshmallow\, Chocolate and Graham Crackers on Top \nCookies & Cream Latte – Cookie\, White or Swiss Chocolate | Made with Chocolate Milk \nDrink Prices:\nMedium – $5\nLarge – $6
URL:https://kingsmill.com/event/june-specialty-drinks-at-the-mill/
LOCATION:The Mill
ATTACH;FMTTYPE=image/jpeg:https://kingsmill.com/wp-content/uploads/2024/06/Mill.jpg
END:VEVENT
BEGIN:VEVENT
DTSTART;TZID=UTC:20250612T190000
DTEND;TZID=UTC:20250612T210000
DTSTAMP:20260421T182530
CREATED:20250522T231430Z
LAST-MODIFIED:20250526T203026Z
UID:39956-1749754800-1749762000@kingsmill.com
SUMMARY:Moody's Nightcap
DESCRIPTION:Join us for our Thursday Moody’s Nightcap!  \nEnjoy live music\, a pool table\, a cash bar and beautiful waterfront views. \nJune 12th Live Music: Vines and Vinegar \n*Moody’s is located on the 5th floor of the main resort building. \nIf you have any questions\, please reach out to Madeline Merrick.
URL:https://kingsmill.com/event/moodys-nightcap/
LOCATION:Moody’s Tavern
ATTACH;FMTTYPE=image/jpeg:https://kingsmill.com/wp-content/uploads/2025/03/Moodys2024.jpg
END:VEVENT
END:VCALENDAR