BEGIN:VCALENDAR
VERSION:2.0
PRODID:-//Kingsmill Resort and Realty - ECPv6.15.20//NONSGML v1.0//EN
CALSCALE:GREGORIAN
METHOD:PUBLISH
X-WR-CALNAME:Kingsmill Resort and Realty
X-ORIGINAL-URL:https://kingsmill.com
X-WR-CALDESC:Events for Kingsmill Resort and Realty
REFRESH-INTERVAL;VALUE=DURATION:PT1H
X-Robots-Tag:noindex
X-PUBLISHED-TTL:PT1H
BEGIN:VTIMEZONE
TZID:UTC
BEGIN:STANDARD
TZOFFSETFROM:+0000
TZOFFSETTO:+0000
TZNAME:UTC
DTSTART:20240101T000000
END:STANDARD
END:VTIMEZONE
BEGIN:VEVENT
DTSTART;TZID=UTC:20250702T150000
DTEND;TZID=UTC:20250702T163000
DTSTAMP:20260421T153050
CREATED:20250610T000028Z
LAST-MODIFIED:20250610T000028Z
UID:40045-1751468400-1751473800@kingsmill.com
SUMMARY:Weekly Kids Craft
DESCRIPTION:Join us at The Mill for a kid-friendly craft!
URL:https://kingsmill.com/event/weekly-kids-craft/
LOCATION:The Mill
ATTACH;FMTTYPE=image/jpeg:https://kingsmill.com/wp-content/uploads/2024/06/Mill.jpg
END:VEVENT
END:VCALENDAR