BEGIN:VCALENDAR
VERSION:2.0
PRODID:-//Kingsmill Resort and Realty - ECPv6.15.20//NONSGML v1.0//EN
CALSCALE:GREGORIAN
METHOD:PUBLISH
X-ORIGINAL-URL:https://kingsmill.com
X-WR-CALDESC:Events for Kingsmill Resort and Realty
REFRESH-INTERVAL;VALUE=DURATION:PT1H
X-Robots-Tag:noindex
X-PUBLISHED-TTL:PT1H
BEGIN:VTIMEZONE
TZID:UTC
BEGIN:STANDARD
TZOFFSETFROM:+0000
TZOFFSETTO:+0000
TZNAME:UTC
DTSTART:20240101T000000
END:STANDARD
END:VTIMEZONE
BEGIN:VEVENT
DTSTART;TZID=UTC:20250717T190000
DTEND;TZID=UTC:20250717T210000
DTSTAMP:20260421T153125
CREATED:20250701T191027Z
LAST-MODIFIED:20250701T191027Z
UID:40314-1752778800-1752786000@kingsmill.com
SUMMARY:Moody's Nightcap
DESCRIPTION:Join us for a fun Thursday night at Moody’s! Enjoy live music\, a pool table\, a cash bar\, and beautiful sunset waterfront views! \nJuly 17 Live Music: Donnaka \n*Moody’s is located on the 5th floor of the main resort building. \nIf you have any questions\, please reach out to Madeline Merrick.
URL:https://kingsmill.com/event/moodys-nightcap-2/
LOCATION:Moody’s Tavern
ATTACH;FMTTYPE=image/jpeg:https://kingsmill.com/wp-content/uploads/2025/03/Moodys2024.jpg
END:VEVENT
END:VCALENDAR