BEGIN:VCALENDAR
VERSION:2.0
PRODID:-//Kingsmill Resort and Realty - ECPv6.15.20//NONSGML v1.0//EN
CALSCALE:GREGORIAN
METHOD:PUBLISH
X-ORIGINAL-URL:https://kingsmill.com
X-WR-CALDESC:Events for Kingsmill Resort and Realty
REFRESH-INTERVAL;VALUE=DURATION:PT1H
X-Robots-Tag:noindex
X-PUBLISHED-TTL:PT1H
BEGIN:VTIMEZONE
TZID:UTC
BEGIN:STANDARD
TZOFFSETFROM:+0000
TZOFFSETTO:+0000
TZNAME:UTC
DTSTART:20240101T000000
END:STANDARD
END:VTIMEZONE
BEGIN:VEVENT
DTSTART;TZID=UTC:20250720T070000
DTEND;TZID=UTC:20250720T170000
DTSTAMP:20260421T153148
CREATED:20250610T214639Z
LAST-MODIFIED:20250610T214639Z
UID:40068-1752994800-1753030800@kingsmill.com
SUMMARY:National Ice Cream Day - $1 Scoops at the Mill
DESCRIPTION:Come to the Mill and help us celebrate National Ice Cream Day with $1 Scoops of Ice Cream!
URL:https://kingsmill.com/event/national-ice-cream-day-1-scoops-at-the-mill/
LOCATION:The Mill
ATTACH;FMTTYPE=image/jpeg:https://kingsmill.com/wp-content/uploads/2024/06/Mill.jpg
END:VEVENT
END:VCALENDAR