BEGIN:VCALENDAR
VERSION:2.0
PRODID:-//Kingsmill Resort and Realty - ECPv6.15.20//NONSGML v1.0//EN
CALSCALE:GREGORIAN
METHOD:PUBLISH
X-ORIGINAL-URL:https://kingsmill.com
X-WR-CALDESC:Events for Kingsmill Resort and Realty
REFRESH-INTERVAL;VALUE=DURATION:PT1H
X-Robots-Tag:noindex
X-PUBLISHED-TTL:PT1H
BEGIN:VTIMEZONE
TZID:UTC
BEGIN:STANDARD
TZOFFSETFROM:+0000
TZOFFSETTO:+0000
TZNAME:UTC
DTSTART:20240101T000000
END:STANDARD
END:VTIMEZONE
BEGIN:VEVENT
DTSTART;TZID=UTC:20250723T150000
DTEND;TZID=UTC:20250723T163000
DTSTAMP:20260421T153149
CREATED:20250610T215008Z
LAST-MODIFIED:20250610T215008Z
UID:40070-1753282800-1753288200@kingsmill.com
SUMMARY:Weekly Kids Craft
DESCRIPTION:Join us at The River Pool for a kid-friendly craft!
URL:https://kingsmill.com/event/weekly-kids-craft-4/
LOCATION:River Pool
ATTACH;FMTTYPE=image/jpeg:https://kingsmill.com/wp-content/uploads/2025/05/RiverPoolEntertainment.jpg
END:VEVENT
END:VCALENDAR