BEGIN:VCALENDAR
VERSION:2.0
PRODID:-//Kingsmill Resort and Realty - ECPv6.15.20//NONSGML v1.0//EN
CALSCALE:GREGORIAN
METHOD:PUBLISH
X-WR-CALNAME:Kingsmill Resort and Realty
X-ORIGINAL-URL:https://kingsmill.com
X-WR-CALDESC:Events for Kingsmill Resort and Realty
REFRESH-INTERVAL;VALUE=DURATION:PT1H
X-Robots-Tag:noindex
X-PUBLISHED-TTL:PT1H
BEGIN:VTIMEZONE
TZID:UTC
BEGIN:STANDARD
TZOFFSETFROM:+0000
TZOFFSETTO:+0000
TZNAME:UTC
DTSTART:20240101T000000
END:STANDARD
END:VTIMEZONE
BEGIN:VEVENT
DTSTART;TZID=UTC:20250726T130000
DTEND;TZID=UTC:20250726T160000
DTSTAMP:20260421T153052
CREATED:20250611T201207Z
LAST-MODIFIED:20250611T201207Z
UID:40075-1753534800-1753545600@kingsmill.com
SUMMARY:River Pool Entertainment
DESCRIPTION:Join us for lunch\, drinks\, water fun\, and live music from The Kingsmill Band! 
URL:https://kingsmill.com/event/river-pool-entertainment-12/
LOCATION:River Pool
ATTACH;FMTTYPE=image/jpeg:https://kingsmill.com/wp-content/uploads/2025/05/RiverPoolEntertainment.jpg
END:VEVENT
BEGIN:VEVENT
DTSTART;TZID=UTC:20250726T170000
DTEND;TZID=UTC:20250726T170000
DTSTAMP:20260421T153052
CREATED:20250611T201410Z
LAST-MODIFIED:20250611T214804Z
UID:40078-1753549200-1753549200@kingsmill.com
SUMMARY:Live Music at James Landing Grille
DESCRIPTION:Join us for lunch\, drinks\, waterside dining\, and live music from Troy Breslow!
URL:https://kingsmill.com/event/live-music-at-james-landing-grille-11/
LOCATION:James Landing Grille
ATTACH;FMTTYPE=image/jpeg:https://kingsmill.com/wp-content/uploads/2025/05/JLGDinner.jpg
END:VEVENT
BEGIN:VEVENT
DTSTART;TZID=UTC:20250726T193000
DTEND;TZID=UTC:20250726T213000
DTSTAMP:20260421T153052
CREATED:20250707T225655Z
LAST-MODIFIED:20250707T225655Z
UID:40340-1753558200-1753565400@kingsmill.com
SUMMARY:Sunset Firework Cruise
DESCRIPTION:Our Marina is offering Sunset Firework Cruises where you will cruise on the James and see the Busch Gardens fireworks! \n7:30 PM – 9:30 PM \n$550 per group – includes the captain’s fee. Up to six people can fit on the boat. \nYou can also request a Beverage Package for your trip! \n*This opportunity is by reservation only. To book\, please call 757-253-3919 or email marina@kingsmill.com. 
URL:https://kingsmill.com/event/sunset-firework-cruise-3/
LOCATION:Kingsmill Marina
ATTACH;FMTTYPE=image/jpeg:https://kingsmill.com/wp-content/uploads/2025/06/SunsetFireworkCruise.jpg
END:VEVENT
END:VCALENDAR