BEGIN:VCALENDAR
VERSION:2.0
PRODID:-//Kingsmill Resort and Realty - ECPv6.15.20//NONSGML v1.0//EN
CALSCALE:GREGORIAN
METHOD:PUBLISH
X-ORIGINAL-URL:https://kingsmill.com
X-WR-CALDESC:Events for Kingsmill Resort and Realty
REFRESH-INTERVAL;VALUE=DURATION:PT1H
X-Robots-Tag:noindex
X-PUBLISHED-TTL:PT1H
BEGIN:VTIMEZONE
TZID:UTC
BEGIN:STANDARD
TZOFFSETFROM:+0000
TZOFFSETTO:+0000
TZNAME:UTC
DTSTART:20240101T000000
END:STANDARD
END:VTIMEZONE
BEGIN:VEVENT
DTSTART;TZID=UTC:20250802T120000
DTEND;TZID=UTC:20250802T160000
DTSTAMP:20260421T135949
CREATED:20250722T173318Z
LAST-MODIFIED:20250722T173318Z
UID:40459-1754136000-1754150400@kingsmill.com
SUMMARY:Entertainment at River Pool - DJ Woody
DESCRIPTION:Join us at The River Pool for water fun\, drinks\, food\, and music from DJ Woody!
URL:https://kingsmill.com/event/entertainment-at-river-pool-dj-woody/
LOCATION:River Pool
ATTACH;FMTTYPE=image/jpeg:https://kingsmill.com/wp-content/uploads/2025/05/RiverPoolEntertainment.jpg
END:VEVENT
BEGIN:VEVENT
DTSTART;TZID=UTC:20250802T170000
DTEND;TZID=UTC:20250802T200000
DTSTAMP:20260421T135949
CREATED:20250722T173911Z
LAST-MODIFIED:20250722T173911Z
UID:40461-1754154000-1754164800@kingsmill.com
SUMMARY:Live Music - Nathan Lienard
DESCRIPTION:Join us for drinks\, waterside dining\, and live music from Nathan Lienard!
URL:https://kingsmill.com/event/live-music-nathan-lienard-5/
LOCATION:James Landing Grille
ATTACH;FMTTYPE=image/jpeg:https://kingsmill.com/wp-content/uploads/2025/05/JLGDinner.jpg
END:VEVENT
END:VCALENDAR