BEGIN:VCALENDAR
VERSION:2.0
PRODID:-//Kingsmill Resort and Realty - ECPv6.15.20//NONSGML v1.0//EN
CALSCALE:GREGORIAN
METHOD:PUBLISH
X-WR-CALNAME:Kingsmill Resort and Realty
X-ORIGINAL-URL:https://kingsmill.com
X-WR-CALDESC:Events for Kingsmill Resort and Realty
REFRESH-INTERVAL;VALUE=DURATION:PT1H
X-Robots-Tag:noindex
X-PUBLISHED-TTL:PT1H
BEGIN:VTIMEZONE
TZID:UTC
BEGIN:STANDARD
TZOFFSETFROM:+0000
TZOFFSETTO:+0000
TZNAME:UTC
DTSTART:20240101T000000
END:STANDARD
END:VTIMEZONE
BEGIN:VEVENT
DTSTART;TZID=UTC:20250808T170000
DTEND;TZID=UTC:20250808T200000
DTSTAMP:20260421T135556
CREATED:20250722T185846Z
LAST-MODIFIED:20250722T185846Z
UID:40469-1754672400-1754683200@kingsmill.com
SUMMARY:Live Music at Eagles - Hannah Jai
DESCRIPTION:Join us at Eagles for drinks\, dinner\, and live music from Hannah Jai!
URL:https://kingsmill.com/event/live-music-at-eagles-hannah-jai/
LOCATION:Eagles
ATTACH;FMTTYPE=image/jpeg:https://kingsmill.com/wp-content/uploads/2024/08/Eagles-1.jpg
END:VEVENT
BEGIN:VEVENT
DTSTART;TZID=UTC:20250808T200000
DTEND;TZID=UTC:20250808T220000
DTSTAMP:20260421T135556
CREATED:20250722T190705Z
LAST-MODIFIED:20250722T190925Z
UID:40471-1754683200-1754690400@kingsmill.com
SUMMARY:Summer Movie Night at the Pool
DESCRIPTION:Join us at 37 North Pool (outdoor pool behind Fitness Center) for a Summer Movie Night! We will be watching Inside Out 2!
URL:https://kingsmill.com/event/summer-movie-night-at-the-pool/
LOCATION:37 North Pool
ATTACH;FMTTYPE=image/jpeg:https://kingsmill.com/wp-content/uploads/2025/05/MoviePoolNight.jpg
END:VEVENT
END:VCALENDAR