BEGIN:VCALENDAR
VERSION:2.0
PRODID:-//Kingsmill Resort and Realty - ECPv6.15.20//NONSGML v1.0//EN
CALSCALE:GREGORIAN
METHOD:PUBLISH
X-ORIGINAL-URL:https://kingsmill.com
X-WR-CALDESC:Events for Kingsmill Resort and Realty
REFRESH-INTERVAL;VALUE=DURATION:PT1H
X-Robots-Tag:noindex
X-PUBLISHED-TTL:PT1H
BEGIN:VTIMEZONE
TZID:UTC
BEGIN:STANDARD
TZOFFSETFROM:+0000
TZOFFSETTO:+0000
TZNAME:UTC
DTSTART:20240101T000000
END:STANDARD
END:VTIMEZONE
BEGIN:VEVENT
DTSTART;TZID=UTC:20250809T120000
DTEND;TZID=UTC:20250809T160000
DTSTAMP:20260421T135950
CREATED:20250722T191142Z
LAST-MODIFIED:20250722T191142Z
UID:40473-1754740800-1754755200@kingsmill.com
SUMMARY:Entertainment at the River Pool - DJ Ross
DESCRIPTION:Join us at The River Pool for water fun\, drinks\, food\, and music from DJ Ross!
URL:https://kingsmill.com/event/entertainment-at-the-river-pool-dj-ross/
LOCATION:River Pool
ATTACH;FMTTYPE=image/jpeg:https://kingsmill.com/wp-content/uploads/2025/05/RiverPoolEntertainment.jpg
END:VEVENT
BEGIN:VEVENT
DTSTART;TZID=UTC:20250809T170000
DTEND;TZID=UTC:20250809T200000
DTSTAMP:20260421T135950
CREATED:20250722T191511Z
LAST-MODIFIED:20250722T191511Z
UID:40475-1754758800-1754769600@kingsmill.com
SUMMARY:Live Music - Lane Rice
DESCRIPTION:Join us at James Landing Grille for dinner\, drinks\, and live music from Lane Rice!
URL:https://kingsmill.com/event/live-music-lane-rice-4/
LOCATION:James Landing Grille
ATTACH;FMTTYPE=image/jpeg:https://kingsmill.com/wp-content/uploads/2025/05/JLGDinner.jpg
END:VEVENT
END:VCALENDAR