BEGIN:VCALENDAR
VERSION:2.0
PRODID:-//Kingsmill Resort and Realty - ECPv6.15.20//NONSGML v1.0//EN
CALSCALE:GREGORIAN
METHOD:PUBLISH
X-WR-CALNAME:Kingsmill Resort and Realty
X-ORIGINAL-URL:https://kingsmill.com
X-WR-CALDESC:Events for Kingsmill Resort and Realty
REFRESH-INTERVAL;VALUE=DURATION:PT1H
X-Robots-Tag:noindex
X-PUBLISHED-TTL:PT1H
BEGIN:VTIMEZONE
TZID:UTC
BEGIN:STANDARD
TZOFFSETFROM:+0000
TZOFFSETTO:+0000
TZNAME:UTC
DTSTART:20240101T000000
END:STANDARD
END:VTIMEZONE
BEGIN:VEVENT
DTSTART;TZID=UTC:20250827T160000
DTEND;TZID=UTC:20250827T180000
DTSTAMP:20260421T135716
CREATED:20250723T182714Z
LAST-MODIFIED:20250813T000551Z
UID:40506-1756310400-1756317600@kingsmill.com
SUMMARY:Kids Craft - Tie Dye Shirts
DESCRIPTION:Head to The River Pool for our most fun Kids Craft of the Summer! Tie dye t-shirts! 
URL:https://kingsmill.com/event/kids-craft-tie-dye-shirts/
LOCATION:River Pool
ATTACH;FMTTYPE=image/jpeg:https://kingsmill.com/wp-content/uploads/2025/07/TyeDyeShirts.jpg
END:VEVENT
END:VCALENDAR