BEGIN:VCALENDAR
VERSION:2.0
PRODID:-//Kingsmill Resort and Realty - ECPv6.15.20//NONSGML v1.0//EN
CALSCALE:GREGORIAN
METHOD:PUBLISH
X-ORIGINAL-URL:https://kingsmill.com
X-WR-CALDESC:Events for Kingsmill Resort and Realty
REFRESH-INTERVAL;VALUE=DURATION:PT1H
X-Robots-Tag:noindex
X-PUBLISHED-TTL:PT1H
BEGIN:VTIMEZONE
TZID:UTC
BEGIN:STANDARD
TZOFFSETFROM:+0000
TZOFFSETTO:+0000
TZNAME:UTC
DTSTART:20240101T000000
END:STANDARD
END:VTIMEZONE
BEGIN:VEVENT
DTSTART;TZID=UTC:20250829T070000
DTEND;TZID=UTC:20250901T183000
DTSTAMP:20260421T135935
CREATED:20250726T002423Z
LAST-MODIFIED:20250726T003016Z
UID:40581-1756450800-1756751400@kingsmill.com
SUMMARY:Labor Day Weekend River Shop Sale
DESCRIPTION:Labor Day Sale! Available August 29 – September 1 \nSpend $100 – 10% Off\nSpend $200 – 20% Off\nSpend $300 – 25% Off\nSpend $500 – 30% Off\nNot to be combined with other discounts\, tiered levels are pre-tax amounts.
URL:https://kingsmill.com/event/labor-day-weekend-river-shop-sale/
LOCATION:River Golf Shop
ATTACH;FMTTYPE=image/jpeg:https://kingsmill.com/wp-content/uploads/2025/06/RiverProShop.jpg
END:VEVENT
BEGIN:VEVENT
DTSTART;TZID=UTC:20250829T090000
DTEND;TZID=UTC:20250901T170000
DTSTAMP:20260421T135935
CREATED:20250723T193011Z
LAST-MODIFIED:20250723T193011Z
UID:40532-1756458000-1756746000@kingsmill.com
SUMMARY:Labor Day Weekend Spa Specials
DESCRIPTION:Enjoy Spa Specials this Labor Day Weekend! Available 8/29 – 9/01 \n\nTake an additional $10 off a massage of your choice!\n50 – minute Couples Massage for $220\, originally $240\nAll massage enhancements – Half Off
URL:https://kingsmill.com/event/labor-day-weekend-spa-specials/
LOCATION:Kingsmill Spa
ATTACH;FMTTYPE=image/jpeg:https://kingsmill.com/wp-content/uploads/2025/04/SpaDeal.jpg
END:VEVENT
BEGIN:VEVENT
DTSTART;TZID=UTC:20250829T090000
DTEND;TZID=UTC:20250901T190000
DTSTAMP:20260421T135935
CREATED:20250723T190933Z
LAST-MODIFIED:20250723T190933Z
UID:40523-1756458000-1756753200@kingsmill.com
SUMMARY:25% off Jet Ski Rentals
DESCRIPTION:Labor Day Special | 8/29 – 9/01\nEnjoy 25% off Jet Ski rentals! To book your ride\, please call (757) 253-3919 or email marina@kingsmill.com.
URL:https://kingsmill.com/event/25-off-jet-ski-rentals/
LOCATION:Kingsmill Marina
ATTACH;FMTTYPE=image/jpeg:https://kingsmill.com/wp-content/uploads/2025/07/JetSkiRental2025.jpg
END:VEVENT
BEGIN:VEVENT
DTSTART;TZID=UTC:20250829T090000
DTEND;TZID=UTC:20250901T210000
DTSTAMP:20260421T135935
CREATED:20250723T191331Z
LAST-MODIFIED:20250723T191444Z
UID:40526-1756458000-1756760400@kingsmill.com
SUMMARY:Cornhole on the Beach with a Chance at Prizes
DESCRIPTION:Enjoy cornhole on the beach at the Marina to celebrate Labor Day Weekend! There will also be drinks for sale in the Marina Store! \nPlay for a chance to win a FREE 1-hour Pontoon Ride or a FREE half-hour jet ski rental
URL:https://kingsmill.com/event/cornhole-on-the-beach-with-a-chance-at-prizes/
LOCATION:Kingsmill Marina
ATTACH;FMTTYPE=image/jpeg:https://kingsmill.com/wp-content/uploads/2025/05/MarinaBoatRegatta.jpg
END:VEVENT
BEGIN:VEVENT
DTSTART;TZID=UTC:20250829T110000
DTEND;TZID=UTC:20250829T190000
DTSTAMP:20260421T135935
CREATED:20250820T201835Z
LAST-MODIFIED:20250820T202449Z
UID:40760-1756465200-1756494000@kingsmill.com
SUMMARY:$1 Ice Cream Scoops
DESCRIPTION:Let’s celebrate Labor Day Weekend with a sweet treat! Join us at The Mill for $1 Ice Cream Scoops! Please note\, there is a $1 upcharge for a cone.
URL:https://kingsmill.com/event/1-ice-cream-scoops-2/
LOCATION:The Mill
ATTACH;FMTTYPE=image/jpeg:https://kingsmill.com/wp-content/uploads/2025/01/IceCreamDay.jpg
END:VEVENT
BEGIN:VEVENT
DTSTART;TZID=UTC:20250829T110000
DTEND;TZID=UTC:20250901T220000
DTSTAMP:20260421T135935
CREATED:20250723T183831Z
LAST-MODIFIED:20250723T183831Z
UID:40511-1756465200-1756764000@kingsmill.com
SUMMARY:Labor Day Weekend Food and Beverage Specials - Eagles
DESCRIPTION:Celebrate Labor Day Weekend in style! Join us at Eagles for delicious Food and Beverage Specials!  \nPlease note\, Eagles closes at different times throughout this period: \nFriday\, August 29 | open until 10 PM\nSaturday\, August 30 | open until 12 AM\nSunday\, August 31 | open until 9 PM\nMonday\, September 1 | open until 9 PM
URL:https://kingsmill.com/event/labor-day-weekend-food-and-beverage-specials-eagles/
LOCATION:Eagles
ATTACH;FMTTYPE=image/jpeg:https://kingsmill.com/wp-content/uploads/2024/08/Eagles-1.jpg
END:VEVENT
BEGIN:VEVENT
DTSTART;TZID=UTC:20250829T120000
DTEND;TZID=UTC:20250829T160000
DTSTAMP:20260421T135935
CREATED:20250723T185954Z
LAST-MODIFIED:20250723T185954Z
UID:40517-1756468800-1756483200@kingsmill.com
SUMMARY:River Pool Entertainment - DJ Woody
DESCRIPTION:Celebrate the start of Labor Day Weekend at The River Pool! Enjoy sunshine\, splashes and music from DJ Woody!
URL:https://kingsmill.com/event/river-pool-entertainment-dj-woody-2/
LOCATION:River Pool
ATTACH;FMTTYPE=image/jpeg:https://kingsmill.com/wp-content/uploads/2025/04/RiverPoolEvent.jpg
END:VEVENT
BEGIN:VEVENT
DTSTART;TZID=UTC:20250829T160000
DTEND;TZID=UTC:20250831T210000
DTSTAMP:20260421T135935
CREATED:20250723T183228Z
LAST-MODIFIED:20250723T183228Z
UID:40509-1756483200-1756674000@kingsmill.com
SUMMARY:Labor Day Weekend Food and Beverage Specials - James Landing Grille
DESCRIPTION:Celebrate Labor Day Weekend in style! Join us at James Landing Grille for delicious Food and Beverage Specials! 
URL:https://kingsmill.com/event/labor-day-weekend-food-and-beverage-specials-james-landing-grille/
LOCATION:James Landing Grille
ATTACH;FMTTYPE=image/jpeg:https://kingsmill.com/wp-content/uploads/2025/05/JLGDinner.jpg
END:VEVENT
BEGIN:VEVENT
DTSTART;TZID=UTC:20250829T160000
DTEND;TZID=UTC:20250901T163000
DTSTAMP:20260421T135935
CREATED:20250723T184425Z
LAST-MODIFIED:20250723T184425Z
UID:40515-1756483200-1756744200@kingsmill.com
SUMMARY:Rubber Duck Race
DESCRIPTION:Celebrate Labor Day Weekend with a Rubber Duck Race with Charles around The River Pool’s Lazy River! Winners receive a prize! This is fun for all ages! 
URL:https://kingsmill.com/event/rubber-duck-race-6/
LOCATION:River Pool
ATTACH;FMTTYPE=image/jpeg:https://kingsmill.com/wp-content/uploads/2025/04/DuckRaces2024.jpg
END:VEVENT
BEGIN:VEVENT
DTSTART;TZID=UTC:20250829T170000
DTEND;TZID=UTC:20250829T200000
DTSTAMP:20260421T135935
CREATED:20250726T005741Z
LAST-MODIFIED:20250726T005741Z
UID:40583-1756486800-1756497600@kingsmill.com
SUMMARY:Pool Party: Splash & Shell-ebrate!
DESCRIPTION:Kick off Labor Day Weekend with a splash! Join us Friday\, August 29 from 5 PM – 8 PM for Splash & Shell-ebrate—an Under the Sea–themed pool party at the River Pool featuring live music by Colonial DJ\, great vibes\, and poolside fun. \nFuel your night with street tacos crafted by our Food & Beverage team—available for purchase throughout the evening. \nGrab your floaties\, gather your crew\, and get ready to dive into the weekend! Let’s finish summer out strong!
URL:https://kingsmill.com/event/pool-party-splash-shell-ebrate/
LOCATION:River Pool
ATTACH;FMTTYPE=image/jpeg:https://kingsmill.com/wp-content/uploads/2025/05/RiverPoolEntertainment.jpg
END:VEVENT
BEGIN:VEVENT
DTSTART;TZID=UTC:20250829T200000
DTEND;TZID=UTC:20250829T213000
DTSTAMP:20260421T135935
CREATED:20250723T191944Z
LAST-MODIFIED:20250827T185956Z
UID:40530-1756497600-1756503000@kingsmill.com
SUMMARY:Glow Golf
DESCRIPTION:Celebrate the start of Labor Day Weekend! Join us at the River Course Putting Green and putt under the lights!
URL:https://kingsmill.com/event/glow-golf-14/
LOCATION:River Course Putting Green
ATTACH;FMTTYPE=image/jpeg:https://kingsmill.com/wp-content/uploads/2024/11/GlowGolf.jpg
END:VEVENT
END:VCALENDAR