BEGIN:VCALENDAR
VERSION:2.0
PRODID:-//Kingsmill Resort and Realty - ECPv6.15.20//NONSGML v1.0//EN
CALSCALE:GREGORIAN
METHOD:PUBLISH
X-WR-CALNAME:Kingsmill Resort and Realty
X-ORIGINAL-URL:https://kingsmill.com
X-WR-CALDESC:Events for Kingsmill Resort and Realty
REFRESH-INTERVAL;VALUE=DURATION:PT1H
X-Robots-Tag:noindex
X-PUBLISHED-TTL:PT1H
BEGIN:VTIMEZONE
TZID:UTC
BEGIN:STANDARD
TZOFFSETFROM:+0000
TZOFFSETTO:+0000
TZNAME:UTC
DTSTART:20240101T000000
END:STANDARD
END:VTIMEZONE
BEGIN:VEVENT
DTSTART;TZID=UTC:20250925T160000
DTEND;TZID=UTC:20250925T210000
DTSTAMP:20260421T122805
CREATED:20250814T224120Z
LAST-MODIFIED:20250922T215147Z
UID:40747-1758816000-1758834000@kingsmill.com
SUMMARY:National Lobster Day
DESCRIPTION:Celebrate National Lobster Day at James Landing Grille with a delicious Lobster special! \nClick here to view the special!
URL:https://kingsmill.com/event/national-lobster-day/
LOCATION:James Landing Grille
ATTACH;FMTTYPE=image/jpeg:https://kingsmill.com/wp-content/uploads/2025/05/JLGDinner.jpg
END:VEVENT
END:VCALENDAR