BEGIN:VCALENDAR
VERSION:2.0
PRODID:-//Kingsmill Resort and Realty - ECPv6.15.20//NONSGML v1.0//EN
CALSCALE:GREGORIAN
METHOD:PUBLISH
X-ORIGINAL-URL:https://kingsmill.com
X-WR-CALDESC:Events for Kingsmill Resort and Realty
REFRESH-INTERVAL;VALUE=DURATION:PT1H
X-Robots-Tag:noindex
X-PUBLISHED-TTL:PT1H
BEGIN:VTIMEZONE
TZID:UTC
BEGIN:STANDARD
TZOFFSETFROM:+0000
TZOFFSETTO:+0000
TZNAME:UTC
DTSTART:20240101T000000
END:STANDARD
END:VTIMEZONE
BEGIN:VEVENT
DTSTART;TZID=UTC:20250927T170000
DTEND;TZID=UTC:20250927T200000
DTSTAMP:20260421T122935
CREATED:20250814T224724Z
LAST-MODIFIED:20250926T001404Z
UID:40749-1758992400-1759003200@kingsmill.com
SUMMARY:Live Music - Manhattan Affair
DESCRIPTION:Join us at James Landing Grille for dinner\, drinks\, riverfront views\, and live music from Manhattan Affair!
URL:https://kingsmill.com/event/live-music-manhattan-affair-2-2/
LOCATION:James Landing Grille
ATTACH;FMTTYPE=image/jpeg:https://kingsmill.com/wp-content/uploads/2025/05/JLGDinner.jpg
END:VEVENT
END:VCALENDAR