BEGIN:VCALENDAR
VERSION:2.0
PRODID:-//Kingsmill Resort and Realty - ECPv6.15.20//NONSGML v1.0//EN
CALSCALE:GREGORIAN
METHOD:PUBLISH
X-ORIGINAL-URL:https://kingsmill.com
X-WR-CALDESC:Events for Kingsmill Resort and Realty
REFRESH-INTERVAL;VALUE=DURATION:PT1H
X-Robots-Tag:noindex
X-PUBLISHED-TTL:PT1H
BEGIN:VTIMEZONE
TZID:UTC
BEGIN:STANDARD
TZOFFSETFROM:+0000
TZOFFSETTO:+0000
TZNAME:UTC
DTSTART:20240101T000000
END:STANDARD
END:VTIMEZONE
BEGIN:VEVENT
DTSTART;TZID=UTC:20251004T170000
DTEND;TZID=UTC:20251004T200000
DTSTAMP:20260421T105541
CREATED:20250912T192930Z
LAST-MODIFIED:20250912T192930Z
UID:40940-1759597200-1759608000@kingsmill.com
SUMMARY:Live Music - Nathan Lienard
DESCRIPTION:Join us at James Landing Grille for dinner\, drinks\, riverfront views\, and live music from Nathan Lienard!
URL:https://kingsmill.com/event/live-music-nathan-lienard-6/
LOCATION:James Landing Grille
ATTACH;FMTTYPE=image/jpeg:https://kingsmill.com/wp-content/uploads/2025/05/JLGDinner.jpg
END:VEVENT
BEGIN:VEVENT
DTSTART;TZID=UTC:20251004T180000
DTEND;TZID=UTC:20251004T200000
DTSTAMP:20260421T105541
CREATED:20250912T192610Z
LAST-MODIFIED:20250916T195939Z
UID:40938-1759600800-1759608000@kingsmill.com
SUMMARY:Trivia Night
DESCRIPTION:Join us at Eagles for food\, drinks\, and a few rounds of spooky Halloween-themed Trivia hosted by SpeedQuizzing VA! Play for a chance at prizes.
URL:https://kingsmill.com/event/trivia-night-16/
LOCATION:Eagles
ATTACH;FMTTYPE=image/jpeg:https://kingsmill.com/wp-content/uploads/2024/08/Eagles-1.jpg
END:VEVENT
END:VCALENDAR