BEGIN:VCALENDAR
VERSION:2.0
PRODID:-//Kingsmill Resort and Realty - ECPv6.15.20//NONSGML v1.0//EN
CALSCALE:GREGORIAN
METHOD:PUBLISH
X-ORIGINAL-URL:https://kingsmill.com
X-WR-CALDESC:Events for Kingsmill Resort and Realty
REFRESH-INTERVAL;VALUE=DURATION:PT1H
X-Robots-Tag:noindex
X-PUBLISHED-TTL:PT1H
BEGIN:VTIMEZONE
TZID:UTC
BEGIN:STANDARD
TZOFFSETFROM:+0000
TZOFFSETTO:+0000
TZNAME:UTC
DTSTART:20240101T000000
END:STANDARD
END:VTIMEZONE
BEGIN:VEVENT
DTSTART;TZID=UTC:20251010T193000
DTEND;TZID=UTC:20251010T213000
DTSTAMP:20260421T111957
CREATED:20250917T234036Z
LAST-MODIFIED:20250917T234036Z
UID:41039-1760124600-1760131800@kingsmill.com
SUMMARY:Horror Movie Night (Friday Night Frights)
DESCRIPTION:Join us in the Randolph Room (2nd Floor Conference Center) for our Horror Movie Night! We will be screening the classic film Gremlins! Snacks will be available.
URL:https://kingsmill.com/event/horror-movie-night-friday-night-frights-2/
LOCATION:Randolph Room (2nd Floor Conference Center)
ATTACH;FMTTYPE=image/jpeg:https://kingsmill.com/wp-content/uploads/2025/09/scary-movie-feature.jpg
END:VEVENT
END:VCALENDAR