BEGIN:VCALENDAR
VERSION:2.0
PRODID:-//Kingsmill Resort and Realty - ECPv6.15.20//NONSGML v1.0//EN
CALSCALE:GREGORIAN
METHOD:PUBLISH
X-ORIGINAL-URL:https://kingsmill.com
X-WR-CALDESC:Events for Kingsmill Resort and Realty
REFRESH-INTERVAL;VALUE=DURATION:PT1H
X-Robots-Tag:noindex
X-PUBLISHED-TTL:PT1H
BEGIN:VTIMEZONE
TZID:UTC
BEGIN:STANDARD
TZOFFSETFROM:+0000
TZOFFSETTO:+0000
TZNAME:UTC
DTSTART:20240101T000000
END:STANDARD
END:VTIMEZONE
BEGIN:VEVENT
DTSTART;TZID=UTC:20251015T160000
DTEND;TZID=UTC:20251015T180000
DTSTAMP:20260421T111956
CREATED:20250912T194528Z
LAST-MODIFIED:20250912T194528Z
UID:40947-1760544000-1760551200@kingsmill.com
SUMMARY:Kids Craft: Pumpkin Painting
DESCRIPTION:Join us at The Mill for a kid-friendly craft: paint pumpkins!
URL:https://kingsmill.com/event/kids-craft-pumpkin-painting/
LOCATION:The Mill
ATTACH;FMTTYPE=image/jpeg:https://kingsmill.com/wp-content/uploads/2025/09/PumpkinPainting.jpg
END:VEVENT
END:VCALENDAR