BEGIN:VCALENDAR
VERSION:2.0
PRODID:-//Kingsmill Resort and Realty - ECPv6.15.20//NONSGML v1.0//EN
CALSCALE:GREGORIAN
METHOD:PUBLISH
X-ORIGINAL-URL:https://kingsmill.com
X-WR-CALDESC:Events for Kingsmill Resort and Realty
REFRESH-INTERVAL;VALUE=DURATION:PT1H
X-Robots-Tag:noindex
X-PUBLISHED-TTL:PT1H
BEGIN:VTIMEZONE
TZID:UTC
BEGIN:STANDARD
TZOFFSETFROM:+0000
TZOFFSETTO:+0000
TZNAME:UTC
DTSTART:20240101T000000
END:STANDARD
END:VTIMEZONE
BEGIN:VEVENT
DTSTART;TZID=UTC:20251024T110000
DTEND;TZID=UTC:20251024T160000
DTSTAMP:20260421T111956
CREATED:20250912T200214Z
LAST-MODIFIED:20251016T195414Z
UID:40955-1761303600-1761321600@kingsmill.com
SUMMARY:National Bologna Day
DESCRIPTION:Join us at Eagles to celebrate National Bologna Day with a delicious bologna special!
URL:https://kingsmill.com/event/national-bologna-day/
LOCATION:Eagles
ATTACH;FMTTYPE=image/jpeg:https://kingsmill.com/wp-content/uploads/2024/08/Eagles-1.jpg
END:VEVENT
BEGIN:VEVENT
DTSTART;TZID=UTC:20251024T190000
DTEND;TZID=UTC:20251024T203000
DTSTAMP:20260421T111956
CREATED:20250924T201802Z
LAST-MODIFIED:20251023T175152Z
UID:41054-1761332400-1761337800@kingsmill.com
SUMMARY:Cocktail Master Class
DESCRIPTION:Join us for a Cocktail Master Class with Bartender Sean. Learn how to make three handcrafted fall and Halloween-inspired cocktails. Make them yourself with materials we provide and enjoy! \nLearn how to make a Fall Margarita\, Cookie Butter Old Fashioned and Pumpkin Spiced White Russian \nRSVP Required. To RSVP as a Resort Guest\, please reach out to madeline.merrick@kingsmill.com. \n$39 Inclusive per Member | $49 Inclusive per Resort Guest \nMembers\, click here to RSVP through MembersFirst.  \n*Cancellation policy of 48 hours prior to event. Please note your account will be charged 48 hours prior to the event.
URL:https://kingsmill.com/event/cocktail-master-class/
LOCATION:Tazewell Conference Room
ATTACH;FMTTYPE=image/jpeg:https://kingsmill.com/wp-content/uploads/2025/09/Website-Events.jpg
END:VEVENT
END:VCALENDAR