BEGIN:VCALENDAR
VERSION:2.0
PRODID:-//Kingsmill Resort and Realty - ECPv6.15.20//NONSGML v1.0//EN
CALSCALE:GREGORIAN
METHOD:PUBLISH
X-ORIGINAL-URL:https://kingsmill.com
X-WR-CALDESC:Events for Kingsmill Resort and Realty
REFRESH-INTERVAL;VALUE=DURATION:PT1H
X-Robots-Tag:noindex
X-PUBLISHED-TTL:PT1H
BEGIN:VTIMEZONE
TZID:UTC
BEGIN:STANDARD
TZOFFSETFROM:+0000
TZOFFSETTO:+0000
TZNAME:UTC
DTSTART:20240101T000000
END:STANDARD
END:VTIMEZONE
BEGIN:VEVENT
DTSTART;TZID=UTC:20251104T090000
DTEND;TZID=UTC:20251111T170000
DTSTAMP:20260421T075042
CREATED:20251008T175749Z
LAST-MODIFIED:20251104T233406Z
UID:41204-1762246800-1762880400@kingsmill.com
SUMMARY:Boots to Suits Drive
DESCRIPTION:Support our veterans during our Boots to Suits drive! Donate gently used suits\, blazers\, and dress shoes to help men and women transition from military to civilian careers. \nPlease ensure all items are freshly dry cleaned in the dry-cleaning packaging.  \nDrop off donations at the Membership Office\, November 4–11\, 9 AM–5 PM.
URL:https://kingsmill.com/event/boots-to-suits-drive/
LOCATION:Eagles
ATTACH;FMTTYPE=image/jpeg:https://kingsmill.com/wp-content/uploads/2025/10/BootstoSuits.jpg
END:VEVENT
BEGIN:VEVENT
DTSTART;TZID=UTC:20251107T180000
DTEND;TZID=UTC:20251107T200000
DTSTAMP:20260421T075042
CREATED:20251007T003819Z
LAST-MODIFIED:20251007T003819Z
UID:41150-1762538400-1762545600@kingsmill.com
SUMMARY:Trivia Night
DESCRIPTION:Join us at Eagles for food\, drinks\, and a few rounds of Trivia hosted by SpeedQuizzing VA! Play for a chance at prizes.
URL:https://kingsmill.com/event/trivia-night-17/
LOCATION:Eagles
ATTACH;FMTTYPE=image/jpeg:https://kingsmill.com/wp-content/uploads/2024/08/Eagles-1.jpg
END:VEVENT
END:VCALENDAR