BEGIN:VCALENDAR
VERSION:2.0
PRODID:-//Kingsmill Resort and Realty - ECPv6.15.20//NONSGML v1.0//EN
CALSCALE:GREGORIAN
METHOD:PUBLISH
X-WR-CALNAME:Kingsmill Resort and Realty
X-ORIGINAL-URL:https://kingsmill.com
X-WR-CALDESC:Events for Kingsmill Resort and Realty
REFRESH-INTERVAL;VALUE=DURATION:PT1H
X-Robots-Tag:noindex
X-PUBLISHED-TTL:PT1H
BEGIN:VTIMEZONE
TZID:UTC
BEGIN:STANDARD
TZOFFSETFROM:+0000
TZOFFSETTO:+0000
TZNAME:UTC
DTSTART:20240101T000000
END:STANDARD
END:VTIMEZONE
BEGIN:VEVENT
DTSTART;TZID=UTC:20251127T130000
DTEND;TZID=UTC:20251127T180000
DTSTAMP:20260421T104747
CREATED:20250915T211317Z
LAST-MODIFIED:20251120T192434Z
UID:40976-1764248400-1764266400@kingsmill.com
SUMMARY:Thanksgiving Buffet
DESCRIPTION:Celebrate Thanksgiving with us in the James River Grand Ballroom\, where sweeping views of the James River make the perfect backdrop for a day of gratitude and good food. \nOur chefs are preparing a plentiful spread\, featuring hot buffet selections\, chilled displays\, and fresh seafood offerings. Enjoy carved-to-order favorites\, a wide variety of seasonal sides\, and decadent desserts to finish on a sweet note. For our younger guests\, a kid-friendly menu will be available so the whole family can join in the feast. Enjoy live music from Farren Winter\, 1 PM – 7 PM.  \nCLICK HERE TO VIEW THE MENU!\nThe Thanksgiving Buffet is available exclusively to Members of The Club at Kingsmill and Kingsmill Resort Guests. \nPlease note\, there is a 72-hour cancellation policy. \nCLICK HERE TO MAKE YOUR RESERVATION
URL:https://kingsmill.com/event/thanksgiving-buffet-2/
LOCATION:James River Grand Ballroom
ATTACH;FMTTYPE=image/jpeg:https://kingsmill.com/wp-content/uploads/2024/09/thanksgivignevent.jpg
END:VEVENT
BEGIN:VEVENT
DTSTART;TZID=UTC:20251127T150000
DTEND;TZID=UTC:20251127T180000
DTSTAMP:20260421T104747
CREATED:20251007T005102Z
LAST-MODIFIED:20251007T005354Z
UID:41161-1764255600-1764266400@kingsmill.com
SUMMARY:Lobby Treats: Cocoa & Cookies
DESCRIPTION:Get in the holiday spirit with complimentary cocoas and cookies in the lobby!
URL:https://kingsmill.com/event/lobby-treats-cocoa-cookies-2/
LOCATION:Main Resort Center
ATTACH;FMTTYPE=image/jpeg:https://kingsmill.com/wp-content/uploads/2025/10/CookiesCocoa.jpg
END:VEVENT
END:VCALENDAR