BEGIN:VCALENDAR
VERSION:2.0
PRODID:-//Kingsmill Resort and Realty - ECPv6.15.20//NONSGML v1.0//EN
CALSCALE:GREGORIAN
METHOD:PUBLISH
X-WR-CALNAME:Kingsmill Resort and Realty
X-ORIGINAL-URL:https://kingsmill.com
X-WR-CALDESC:Events for Kingsmill Resort and Realty
REFRESH-INTERVAL;VALUE=DURATION:PT1H
X-Robots-Tag:noindex
X-PUBLISHED-TTL:PT1H
BEGIN:VTIMEZONE
TZID:UTC
BEGIN:STANDARD
TZOFFSETFROM:+0000
TZOFFSETTO:+0000
TZNAME:UTC
DTSTART:20240101T000000
END:STANDARD
END:VTIMEZONE
BEGIN:VEVENT
DTSTART;VALUE=DATE:20251201
DTEND;VALUE=DATE:20260101
DTSTAMP:20260421T092337
CREATED:20251020T181002Z
LAST-MODIFIED:20251202T223118Z
UID:41458-1764547200-1767225599@kingsmill.com
SUMMARY:Search for 8 Reindeer
DESCRIPTION:Looking for a festive holiday game the whole family will love? All month long\, eight playful reindeer are hiding around the Resort—can you find them all? Stop by the Front Desk for fun hint sheets to help you on your search\, and see if you can discover every one of these cheerful holiday friends!
URL:https://kingsmill.com/event/search-for-7-reindeer-2/
ATTACH;FMTTYPE=image/jpeg:https://kingsmill.com/wp-content/uploads/2024/07/reindeer.jpg
END:VEVENT
BEGIN:VEVENT
DTSTART;VALUE=DATE:20251201
DTEND;VALUE=DATE:20251226
DTSTAMP:20260421T092337
CREATED:20251020T181407Z
LAST-MODIFIED:20251020T181407Z
UID:41460-1764547200-1766707199@kingsmill.com
SUMMARY:Write Letters to Santa
DESCRIPTION:Write your letter to Santa at the lobby of the Main Resort Center. Paper and a special North Pole mailbox are ready for you to share your holiday wishes!
URL:https://kingsmill.com/event/write-letters-to-santa-2/
LOCATION:Main Resort Center
ATTACH;FMTTYPE=image/jpeg:https://kingsmill.com/wp-content/uploads/2024/07/LettersToSanta.jpg
END:VEVENT
BEGIN:VEVENT
DTSTART;TZID=UTC:20251221T110000
DTEND;TZID=UTC:20251221T210000
DTSTAMP:20260421T092337
CREATED:20251008T183648Z
LAST-MODIFIED:20251008T183649Z
UID:41214-1766314800-1766350800@kingsmill.com
SUMMARY:National Fried Shrimp Day
DESCRIPTION:Join us at James Landing Grille and/or Eagles for a delicious National Fried Shrimp Day special! 
URL:https://kingsmill.com/event/national-fried-shrimp-day/
LOCATION:James Landing Grille and Eagles
ATTACH;FMTTYPE=image/jpeg:https://kingsmill.com/wp-content/uploads/2025/10/FriedShrimpSpecial.jpg
END:VEVENT
BEGIN:VEVENT
DTSTART;TZID=UTC:20251221T140000
DTEND;TZID=UTC:20251221T180000
DTSTAMP:20260421T092337
CREATED:20251008T200730Z
LAST-MODIFIED:20251220T010658Z
UID:41221-1766325600-1766340000@kingsmill.com
SUMMARY:Cookie Decorating
DESCRIPTION:Join us in the Fairfax Room to decorate some Holiday Cookies! This is a fun\, free event. Cookies will be available for decorating as supplies last.
URL:https://kingsmill.com/event/cookie-decorating-3/
LOCATION:Fairfax Room
ATTACH;FMTTYPE=image/jpeg:https://kingsmill.com/wp-content/uploads/2024/11/CookieDecorating.jpg
END:VEVENT
END:VCALENDAR