BEGIN:VCALENDAR
VERSION:2.0
PRODID:-//Kingsmill Resort and Realty - ECPv6.15.20//NONSGML v1.0//EN
CALSCALE:GREGORIAN
METHOD:PUBLISH
X-WR-CALNAME:Kingsmill Resort and Realty
X-ORIGINAL-URL:https://kingsmill.com
X-WR-CALDESC:Events for Kingsmill Resort and Realty
REFRESH-INTERVAL;VALUE=DURATION:PT1H
X-Robots-Tag:noindex
X-PUBLISHED-TTL:PT1H
BEGIN:VTIMEZONE
TZID:UTC
BEGIN:STANDARD
TZOFFSETFROM:+0000
TZOFFSETTO:+0000
TZNAME:UTC
DTSTART:20230101T000000
END:STANDARD
END:VTIMEZONE
BEGIN:VEVENT
DTSTART;TZID=UTC:20241002T160000
DTEND;TZID=UTC:20241002T180000
DTSTAMP:20260422T074024
CREATED:20240610T222346Z
LAST-MODIFIED:20240909T210306Z
UID:37738-1727884800-1727892000@kingsmill.com
SUMMARY:Kids Craft
DESCRIPTION:Join us for a fun kid-friendly activity. 
URL:https://kingsmill.com/event/kids-craft-22/
LOCATION:The Mill
ATTACH;FMTTYPE=image/jpeg:https://kingsmill.com/wp-content/uploads/2024/06/Mill.jpg
END:VEVENT
BEGIN:VEVENT
DTSTART;TZID=UTC:20241004T110000
DTEND;TZID=UTC:20241004T220000
DTSTAMP:20260422T074024
CREATED:20240924T234933Z
LAST-MODIFIED:20241002T195939Z
UID:38434-1728039600-1728079200@kingsmill.com
SUMMARY:National Taco Day
DESCRIPTION:Join us at Eagles for delicious tacos and margaritas to celebrate National Taco Day! \n\n\n\n\n\n\n\nMenu \nMix and Match Taco $3.50 each \nChicken or Beef Taco \nHard or Soft Shell \nLettuce\, Tomato\, Cheese \nSalsa and Sour Cream on the Side \n  \nApple Cider Margarita $10 \n1800 Tequila\, Fresh Lime\, Apple Cider\, Cinnamon Sugar Rim \n  \nHouse Margarita $6 \nHouse Tequila\, Fresh Lime\, Simple Syrup
URL:https://kingsmill.com/event/national-taco-day-2/
LOCATION:Eagles
ATTACH;FMTTYPE=image/jpeg:https://kingsmill.com/wp-content/uploads/2024/09/TacoDay.jpg
END:VEVENT
BEGIN:VEVENT
DTSTART;TZID=UTC:20241004T160000
DTEND;TZID=UTC:20241004T210000
DTSTAMP:20260422T074024
CREATED:20240924T234705Z
LAST-MODIFIED:20241002T200114Z
UID:38429-1728057600-1728075600@kingsmill.com
SUMMARY:National Taco Day
DESCRIPTION:Join us at James Landing Grille for delicious tacos and margaritas to celebrate National Taco Day! \nMenu \nSurf and Turf Street Taco \n3 Tacos and Side $26 \n3 Tacos $20 \nSteak and Shrimp\, Avocado Lime Crema\, \nCorn Salsa\, Pickled Onions\, Cilantro \n  \nMango Tajin Margarita $10 \n1800 Tequila\, Fresh Lime\, Mango Puree\, Tajin Rim \n  \nHouse Margarita $6 \nHouse Tequila\, Fresh Lime\, Simple Syrup
URL:https://kingsmill.com/event/national-taco-day/
LOCATION:James Landing Grille
ATTACH;FMTTYPE=image/jpeg:https://kingsmill.com/wp-content/uploads/2024/09/TacoDay.jpg
END:VEVENT
BEGIN:VEVENT
DTSTART;TZID=UTC:20241004T180000
DTEND;TZID=UTC:20241004T200000
DTSTAMP:20260422T074024
CREATED:20240820T235758Z
LAST-MODIFIED:20240909T210510Z
UID:38242-1728064800-1728072000@kingsmill.com
SUMMARY:Music BINGO
DESCRIPTION:Play a few rounds of Music BINGO hosted by Challenge Entertainment for a chance at prizes. \n 
URL:https://kingsmill.com/event/music-bingo-7/
LOCATION:Eagles
ATTACH;FMTTYPE=image/jpeg:https://kingsmill.com/wp-content/uploads/2024/08/Eagles-1.jpg
END:VEVENT
BEGIN:VEVENT
DTSTART;TZID=UTC:20241005T170000
DTEND;TZID=UTC:20241005T200000
DTSTAMP:20260422T074024
CREATED:20240910T234416Z
LAST-MODIFIED:20240910T234416Z
UID:38403-1728147600-1728158400@kingsmill.com
SUMMARY:Live Music - Sammy Lee
DESCRIPTION:Enjoy dinner\, drinks\, and live music from Sammy Lee.
URL:https://kingsmill.com/event/live-music-sammy-lee-2/
LOCATION:James Landing Grille
ATTACH;FMTTYPE=image/jpeg:https://kingsmill.com/wp-content/uploads/2024/09/JLG-1.jpg
END:VEVENT
BEGIN:VEVENT
DTSTART;TZID=UTC:20241012T170000
DTEND;TZID=UTC:20241012T200000
DTSTAMP:20260422T074024
CREATED:20240909T234132Z
LAST-MODIFIED:20240909T234132Z
UID:38389-1728752400-1728763200@kingsmill.com
SUMMARY:Live Music - Georgia Saunders
DESCRIPTION:Enjoy dinner\, drinks\, and live music from Georgia Saunders.
URL:https://kingsmill.com/event/live-music-georgia-saunders/
LOCATION:James Landing Grille
ATTACH;FMTTYPE=image/jpeg:https://kingsmill.com/wp-content/uploads/2024/09/JLG-1.jpg
END:VEVENT
BEGIN:VEVENT
DTSTART;TZID=UTC:20241016T160000
DTEND;TZID=UTC:20241016T180000
DTSTAMP:20260422T074024
CREATED:20240610T222504Z
LAST-MODIFIED:20241010T212712Z
UID:37740-1729094400-1729101600@kingsmill.com
SUMMARY:Kids Craft
DESCRIPTION:Join us to paint pumpkins to celebrate the Fall Season!
URL:https://kingsmill.com/event/kids-craft-23/
LOCATION:The Mill
ATTACH;FMTTYPE=image/jpeg:https://kingsmill.com/wp-content/uploads/2024/06/Mill.jpg
END:VEVENT
BEGIN:VEVENT
DTSTART;TZID=UTC:20241019T170000
DTEND;TZID=UTC:20241019T200000
DTSTAMP:20260422T074024
CREATED:20240610T222607Z
LAST-MODIFIED:20240909T210802Z
UID:37742-1729357200-1729368000@kingsmill.com
SUMMARY:Live Music - Patrick Ryan
DESCRIPTION:Enjoy dinner\, drinks\, and live music from Patrick Ryan. 
URL:https://kingsmill.com/event/live-music-patrick-ryan-3/
LOCATION:James Landing Grille
ATTACH;FMTTYPE=image/jpeg:https://kingsmill.com/wp-content/uploads/2024/06/JLG-1-1.jpg
END:VEVENT
BEGIN:VEVENT
DTSTART;TZID=UTC:20241026T070000
DTEND;TZID=UTC:20241026T190000
DTSTAMP:20260422T074024
CREATED:20240925T001414Z
LAST-MODIFIED:20241022T220052Z
UID:38436-1729926000-1729969200@kingsmill.com
SUMMARY:National Pumpkin Day
DESCRIPTION:Join us at The Mill for Pumpkin Cupcakes to celebrate National Pumpkin Day!
URL:https://kingsmill.com/event/national-pumpkin-day/
LOCATION:The Mill
ATTACH;FMTTYPE=image/jpeg:https://kingsmill.com/wp-content/uploads/2024/09/PumpkinSpice.jpg
END:VEVENT
BEGIN:VEVENT
DTSTART;TZID=UTC:20241026T170000
DTEND;TZID=UTC:20241026T200000
DTSTAMP:20260422T074024
CREATED:20240909T233929Z
LAST-MODIFIED:20240909T233929Z
UID:38386-1729962000-1729972800@kingsmill.com
SUMMARY:Live Music - Vernon Holloman
DESCRIPTION:Enjoy dinner\, drinks\, and live music from Vernon Holloman.
URL:https://kingsmill.com/event/live-music-vernon-holloman/
LOCATION:James Landing Grille
ATTACH;FMTTYPE=image/jpeg:https://kingsmill.com/wp-content/uploads/2024/09/JLG-1.jpg
END:VEVENT
END:VCALENDAR