BEGIN:VCALENDAR
VERSION:2.0
PRODID:-//Kingsmill Resort and Realty - ECPv6.15.20//NONSGML v1.0//EN
CALSCALE:GREGORIAN
METHOD:PUBLISH
X-ORIGINAL-URL:https://kingsmill.com
X-WR-CALDESC:Events for Kingsmill Resort and Realty
REFRESH-INTERVAL;VALUE=DURATION:PT1H
X-Robots-Tag:noindex
X-PUBLISHED-TTL:PT1H
BEGIN:VTIMEZONE
TZID:UTC
BEGIN:STANDARD
TZOFFSETFROM:+0000
TZOFFSETTO:+0000
TZNAME:UTC
DTSTART:20230101T000000
END:STANDARD
END:VTIMEZONE
BEGIN:VEVENT
DTSTART;TZID=UTC:20241201T080000
DTEND;TZID=UTC:20241225T200000
DTSTAMP:20260422T045448
CREATED:20240730T194634Z
LAST-MODIFIED:20241116T021921Z
UID:38109-1733040000-1735156800@kingsmill.com
SUMMARY:Search for 7 Reindeer
DESCRIPTION:When you check in\, be on the lookout for all 7 reindeer around the Resort! They will be hidden all month long!
URL:https://kingsmill.com/event/search-for-7-reindeer/
LOCATION:Main Resort Center
ATTACH;FMTTYPE=image/jpeg:https://kingsmill.com/wp-content/uploads/2024/07/reindeer.jpg
END:VEVENT
BEGIN:VEVENT
DTSTART;TZID=UTC:20241201T170000
DTEND;TZID=UTC:20241201T200000
DTSTAMP:20260422T045448
CREATED:20241113T020104Z
LAST-MODIFIED:20241113T020104Z
UID:38858-1733072400-1733083200@kingsmill.com
SUMMARY:Live Music - Joe Heilman
DESCRIPTION:Enjoy dinner\, drinks\, and live music from Joe Heilman at James Landing Grille. \n 
URL:https://kingsmill.com/event/live-music-joe-heilman/
LOCATION:James Landing Grille
ATTACH;FMTTYPE=image/jpeg:https://kingsmill.com/wp-content/uploads/2024/09/JLG-1.jpg
END:VEVENT
BEGIN:VEVENT
DTSTART;TZID=UTC:20241202T080000
DTEND;TZID=UTC:20241225T200000
DTSTAMP:20260422T045448
CREATED:20240730T200242Z
LAST-MODIFIED:20241116T021847Z
UID:38111-1733126400-1735156800@kingsmill.com
SUMMARY:Write Letters to Santa
DESCRIPTION:Did you forget to send your letter to Santa? Don’t worry\, we have a mailbox and paper for you at the Resort.
URL:https://kingsmill.com/event/write-letters-to-santa/
LOCATION:Main Resort Center
ATTACH;FMTTYPE=image/jpeg:https://kingsmill.com/wp-content/uploads/2024/07/LettersToSanta.jpg
END:VEVENT
BEGIN:VEVENT
DTSTART;TZID=UTC:20241203T170000
DTEND;TZID=UTC:20241203T193000
DTSTAMP:20260422T045448
CREATED:20240620T231510Z
LAST-MODIFIED:20241129T185410Z
UID:37867-1733245200-1733254200@kingsmill.com
SUMMARY:Tree Lighting
DESCRIPTION:Come enjoy dinner\, a Tree Lighting\, and live music from the Liberty Dolls from 5:30 PM to 7:30 PM to kick off the holiday season! Santa will also be here to join in on the fun. Enjoy cookies\, cider and cocoa.  \nJoin us for a Taco Tuesday Fiesta Buffet starting at 5 PM\, prior to the Tree Lighting\, seating is first come\, first serve (No Reservation Required) \nThe tree will be lit at 6:30 PM. \nTaco Tuesday Fiesta Buffet\n$29 ++ Resort $24 ++ Member \n$15++ Resort (Ages 6-12) $13++ Member (Ages 6-12)
URL:https://kingsmill.com/event/tree-lighting/
LOCATION:Main Resort Center
ATTACH;FMTTYPE=image/jpeg:https://kingsmill.com/wp-content/uploads/2024/07/ChristmasLights.jpg
END:VEVENT
BEGIN:VEVENT
DTSTART;TZID=UTC:20241204T160000
DTEND;TZID=UTC:20241204T180000
DTSTAMP:20260422T045448
CREATED:20240620T231620Z
LAST-MODIFIED:20241121T195143Z
UID:37869-1733328000-1733335200@kingsmill.com
SUMMARY:Holiday Kids Craft
DESCRIPTION:Decorate ornaments to take home to cherish on your Christmas tree!
URL:https://kingsmill.com/event/holiday-kids-craft/
LOCATION:The Mill
ATTACH;FMTTYPE=image/jpeg:https://kingsmill.com/wp-content/uploads/2024/06/ChristmasOrnaments.jpg
END:VEVENT
BEGIN:VEVENT
DTSTART;TZID=UTC:20241207T180000
DTEND;TZID=UTC:20241207T200000
DTSTAMP:20260422T045448
CREATED:20241125T201944Z
LAST-MODIFIED:20241125T201944Z
UID:38950-1733594400-1733601600@kingsmill.com
SUMMARY:Music BINGO
DESCRIPTION:Join us for drinks\, dinner and a few rounds of Music BINGO. 
URL:https://kingsmill.com/event/music-bingo-8/
LOCATION:Eagles
ATTACH;FMTTYPE=image/jpeg:https://kingsmill.com/wp-content/uploads/2024/08/Eagles-1.jpg
END:VEVENT
BEGIN:VEVENT
DTSTART;TZID=UTC:20241211T160000
DTEND;TZID=UTC:20241211T180000
DTSTAMP:20260422T045448
CREATED:20240620T231731Z
LAST-MODIFIED:20240909T231837Z
UID:37871-1733932800-1733940000@kingsmill.com
SUMMARY:Holiday Kids Craft
DESCRIPTION:Make your own special Holiday card to take home and mail to Santa or your friends
URL:https://kingsmill.com/event/holiday-kids-craft-2/
LOCATION:The Mill
ATTACH;FMTTYPE=image/jpeg:https://kingsmill.com/wp-content/uploads/2024/07/ChristmasLights.jpg
END:VEVENT
BEGIN:VEVENT
DTSTART;TZID=UTC:20241214T090000
DTEND;TZID=UTC:20241214T103000
DTSTAMP:20260422T045448
CREATED:20241028T215428Z
LAST-MODIFIED:20241213T191421Z
UID:38684-1734166800-1734172200@kingsmill.com
SUMMARY:Breakfast with Santa 2024
DESCRIPTION:We are not accepting anymore reservations at this time.  \nJoin us for Breakfast with Santa and a delicious breakfast buffet at Kingsmill Resort. Get your photo taken with Santa by Erin Bess from Simply the Best Photography! If you are a Member of The Club at Kingsmill or a Resort Guest\, you are eligible to make a reservation. \n 
URL:https://kingsmill.com/event/breakfast-with-santa-2024/
LOCATION:Burwell
ATTACH;FMTTYPE=image/jpeg:https://kingsmill.com/wp-content/uploads/2024/10/BreakfastwithSanta2024.jpg
END:VEVENT
BEGIN:VEVENT
DTSTART;TZID=UTC:20241218T180000
DTEND;TZID=UTC:20241218T200000
DTSTAMP:20260422T045448
CREATED:20241218T215758Z
LAST-MODIFIED:20241218T215758Z
UID:39009-1734544800-1734552000@kingsmill.com
SUMMARY:Music BINGO
DESCRIPTION:Join us for drinks\, dinner and a few rounds of Music BINGO.
URL:https://kingsmill.com/event/music-bingo-10/
LOCATION:Eagles
ATTACH;FMTTYPE=image/jpeg:https://kingsmill.com/wp-content/uploads/2024/08/Eagles-1.jpg
END:VEVENT
BEGIN:VEVENT
DTSTART;TZID=UTC:20241221T173000
DTEND;TZID=UTC:20241221T200000
DTSTAMP:20260422T045448
CREATED:20241118T210712Z
LAST-MODIFIED:20241118T210712Z
UID:38908-1734802200-1734811200@kingsmill.com
SUMMARY:Glow Golf
DESCRIPTION:Join us for holiday Glow Golf with Hot Chocolate and Cider! For $6\, add a Fireball or Baileys shot to your drink. 
URL:https://kingsmill.com/event/glow-golf-7/
LOCATION:River Course Putting Green
ATTACH;FMTTYPE=image/jpeg:https://kingsmill.com/wp-content/uploads/2024/11/GlowGolf.jpg
END:VEVENT
BEGIN:VEVENT
DTSTART;TZID=UTC:20241222T150000
DTEND;TZID=UTC:20241222T180000
DTSTAMP:20260422T045448
CREATED:20241122T025627Z
LAST-MODIFIED:20241217T224950Z
UID:38940-1734879600-1734890400@kingsmill.com
SUMMARY:Cookie Decorating
DESCRIPTION:Get in the holiday spirit! Join us at The Mill to decorate some Christmas Cookies!
URL:https://kingsmill.com/event/cookie-decorating/
LOCATION:The Mill
ATTACH;FMTTYPE=image/jpeg:https://kingsmill.com/wp-content/uploads/2024/11/CookieDecorating.jpg
END:VEVENT
BEGIN:VEVENT
DTSTART;TZID=UTC:20241223T150000
DTEND;TZID=UTC:20241223T180000
DTSTAMP:20260422T045448
CREATED:20241122T025709Z
LAST-MODIFIED:20241217T224959Z
UID:38943-1734966000-1734976800@kingsmill.com
SUMMARY:Cookie Decorating
DESCRIPTION:Get in the holiday spirit! Join us at The Mill to decorate some Christmas Cookies!
URL:https://kingsmill.com/event/cookie-decorating-2/
LOCATION:The Mill
ATTACH;FMTTYPE=image/jpeg:https://kingsmill.com/wp-content/uploads/2024/11/CookieDecorating.jpg
END:VEVENT
BEGIN:VEVENT
DTSTART;TZID=UTC:20241225T110000
DTEND;TZID=UTC:20241225T130000
DTSTAMP:20260422T045448
CREATED:20241028T222152Z
LAST-MODIFIED:20241223T185622Z
UID:38702-1735124400-1735131600@kingsmill.com
SUMMARY:Christmas Brunch Buffet 2024
DESCRIPTION:Join us for a Christmas Brunch with all your seasonal favorites at Kingsmill Resort. If you are a Member of The Club at Kingsmill or a Resort Guest\, you are eligible to make a reservation. \nAt this time\, we are no longer taking reservations.
URL:https://kingsmill.com/event/christmas-brunch-buffet-2024/
LOCATION:James River Grand Ballroom
ATTACH;FMTTYPE=image/jpeg:https://kingsmill.com/wp-content/uploads/2024/07/ChristmasLights.jpg
END:VEVENT
END:VCALENDAR