BEGIN:VCALENDAR
VERSION:2.0
PRODID:-//Kingsmill Resort and Realty - ECPv6.15.20//NONSGML v1.0//EN
CALSCALE:GREGORIAN
METHOD:PUBLISH
X-ORIGINAL-URL:https://kingsmill.com
X-WR-CALDESC:Events for Kingsmill Resort and Realty
REFRESH-INTERVAL;VALUE=DURATION:PT1H
X-Robots-Tag:noindex
X-PUBLISHED-TTL:PT1H
BEGIN:VTIMEZONE
TZID:UTC
BEGIN:STANDARD
TZOFFSETFROM:+0000
TZOFFSETTO:+0000
TZNAME:UTC
DTSTART:20240101T000000
END:STANDARD
END:VTIMEZONE
BEGIN:VEVENT
DTSTART;TZID=UTC:20250201T070000
DTEND;TZID=UTC:20250201T110000
DTSTAMP:20260422T001024
CREATED:20250121T020922Z
LAST-MODIFIED:20250121T021346Z
UID:39158-1738393200-1738407600@kingsmill.com
SUMMARY:National Ice Cream for Breakfast Day
DESCRIPTION:Join us at The Mill for $1 Ice Cream to celebrate National Ice Cream for Breakfast Day! 
URL:https://kingsmill.com/event/national-ice-cream-for-breakfast-day/
LOCATION:The Mill
ATTACH;FMTTYPE=image/jpeg:https://kingsmill.com/wp-content/uploads/2025/01/IceCreamDay.jpg
END:VEVENT
BEGIN:VEVENT
DTSTART;TZID=UTC:20250201T200000
DTEND;TZID=UTC:20250201T220000
DTSTAMP:20260422T001024
CREATED:20241218T211348Z
LAST-MODIFIED:20250124T235605Z
UID:39002-1738440000-1738447200@kingsmill.com
SUMMARY:Comedy Night 2025
DESCRIPTION:Enjoy a night of fun and laughter at Kingsmill’s Comedy Night!  \nAt this time\, we are not taking any more reservations. If you would like to be put on the waitlist\, please reach out to Madeline.Merrick@Kingsmill.com  \nKaren Morgan is returning from last year with all new content! She will be the headline of the night\, with MC Brent Blakeney\, and opener Bryan Morton. Enjoy a Cash Bar at the Event. Doors open at 7:30 PM. \nYou have the option to purchase… \n1. Our show and dinner package. View buffet dinner here.  \n2. Just a show ticket \n3. A table with your fellow friends ($50/Table) \nThis event is ASSIGNED SEATING\, so you must request a table to sit with specific people. Accommodations can be made if stated in RSVP\, but NO seat changes the night of. Membership can pick up tickets the afternoon of the event for express entry. Cannon Club Members may enter up to 30 minutes early for shorter lines at the bar. \n*Cancellation policy of 48 hours before the event. Please reach out to Madeline.Merrick@Kingsmill.com with any questions.
URL:https://kingsmill.com/event/comedy-night-2/
LOCATION:James River Grand Ballroom
ATTACH;FMTTYPE=image/jpeg:https://kingsmill.com/wp-content/uploads/2024/12/ComedyNight.jpg
END:VEVENT
BEGIN:VEVENT
DTSTART;TZID=UTC:20250205T160000
DTEND;TZID=UTC:20250205T180000
DTSTAMP:20260422T001024
CREATED:20250121T021429Z
LAST-MODIFIED:20250121T021429Z
UID:39160-1738771200-1738778400@kingsmill.com
SUMMARY:Kids Craft
DESCRIPTION:Join us at The Mill for a kid-friendly fun craft! 
URL:https://kingsmill.com/event/kids-craft-30/
LOCATION:The Mill
ATTACH;FMTTYPE=image/jpeg:https://kingsmill.com/wp-content/uploads/2024/06/Mill.jpg
END:VEVENT
BEGIN:VEVENT
DTSTART;TZID=UTC:20250207T180000
DTEND;TZID=UTC:20250207T200000
DTSTAMP:20260422T001024
CREATED:20241218T215641Z
LAST-MODIFIED:20241218T215641Z
UID:39007-1738951200-1738958400@kingsmill.com
SUMMARY:Trivia Night
DESCRIPTION:Play a few rounds of Trivia hosted by SpeedQuizzing VA for a chance to win prizes!
URL:https://kingsmill.com/event/trivia-night-8/
LOCATION:Eagles
ATTACH;FMTTYPE=image/jpeg:https://kingsmill.com/wp-content/uploads/2024/08/Eagles-1.jpg
END:VEVENT
BEGIN:VEVENT
DTSTART;TZID=UTC:20250209T110000
DTEND;TZID=UTC:20250209T200000
DTSTAMP:20260422T001024
CREATED:20250128T020650Z
LAST-MODIFIED:20250210T022140Z
UID:39202-1739098800-1739131200@kingsmill.com
SUMMARY:Super Bowl Specials
DESCRIPTION:Celebrate the Super Bowl at Kingsmill Resort! \nEnjoy delicious specials at Eagles all day.  \nPhilly Cheesesteak | $18 Shaved Prime Rib\, Peppers & Onions\, Provolone Cheese\, Sub Roll. Served with your choice of side.  \nPulled Pork BBQ Sliders | $3 each | Pulled Pork\, Kansas City BBQ Sauce\, Cole Slaw\, Brioche Slider Bun \nAppetizer Platter \nAlso enjoy $16 pizza all day.  \n\nThe kitchen will close at 8pm. We will keep the bar open until the game is over\, and happy hour will be available until the game is over. \n\n 
URL:https://kingsmill.com/event/super-bowl-specials/
LOCATION:Eagles
ATTACH;FMTTYPE=image/jpeg:https://kingsmill.com/wp-content/uploads/2025/01/superbowlspecials-1.jpg
END:VEVENT
BEGIN:VEVENT
DTSTART;TZID=UTC:20250213T110000
DTEND;TZID=UTC:20250215T210000
DTSTAMP:20260422T001024
CREATED:20250118T030439Z
LAST-MODIFIED:20250212T203810Z
UID:39142-1739444400-1739653200@kingsmill.com
SUMMARY:Valentine's Day Specials at Eagles
DESCRIPTION:Join us at Eagles for Valentine’s Day Specials available Thursday\, February 13\, Friday\, February 14\, and Saturday\, February 15. \nEnjoy Grilled New York Strip\, blue cheese cream sauce\, gunpowder fried onions\, Mushroom risotto\, Baby Carrots\, Choice of house or Caesar salad and Chef’s Dessert Selections | $50 \nAlso enjoy drink specials! View the drink special menu here. 
URL:https://kingsmill.com/event/valentines-day-specials-at-eagles/
ATTACH;FMTTYPE=image/jpeg:https://kingsmill.com/wp-content/uploads/2025/01/ValentinesDayImage.jpg
END:VEVENT
BEGIN:VEVENT
DTSTART;TZID=UTC:20250213T160000
DTEND;TZID=UTC:20250215T210000
DTSTAMP:20260422T001024
CREATED:20250118T030247Z
LAST-MODIFIED:20250215T040109Z
UID:39140-1739462400-1739653200@kingsmill.com
SUMMARY:Valentine's Day Specials at James Landing Grille
DESCRIPTION:Join us at James Landing Grille for Valentine’s Day Specials available Thursday\, February 13\, Friday\, February 14\, and Saturday\, February 15. \n\nEnjoy specials drinks\, a dinner special\, and a dessert special! View menu here. 
URL:https://kingsmill.com/event/valentines-day-specials-at-james-landing-grille/
LOCATION:James Landing Grille
ATTACH;FMTTYPE=image/jpeg:https://kingsmill.com/wp-content/uploads/2025/01/ValentinesDayImage.jpg
END:VEVENT
BEGIN:VEVENT
DTSTART;TZID=UTC:20250214T170000
DTEND;TZID=UTC:20250214T200000
DTSTAMP:20260422T001024
CREATED:20250118T025842Z
LAST-MODIFIED:20250214T044251Z
UID:39136-1739552400-1739563200@kingsmill.com
SUMMARY:Valentine's Day Dinner 2025
DESCRIPTION:At this time\, we are not accepting anymore reservations.  \nJoin us for Valentine’s Day dinner with your special someone! Dinner will be served at River’s Edge Buffet with reservations every 30 minutes from 5 PM – 8 PM. Enjoy live music from Elizabeth Grisham on the piano while you enjoy your meal.   \nMember Pricing: $180 per couple  \nResort Guest Pricing: $199 per couple \nView the menu here. \nPlease note your account will be charged 48 hours prior to the event. Please be sure to RSVP by Wednesday\, February 12 at 5 PM.
URL:https://kingsmill.com/event/valentines-day-dinner-2025/
LOCATION:River’s Edge Buffet
ATTACH;FMTTYPE=image/jpeg:https://kingsmill.com/wp-content/uploads/2025/01/ValentinesDayDinner.jpg
END:VEVENT
BEGIN:VEVENT
DTSTART;TZID=UTC:20250219T160000
DTEND;TZID=UTC:20250219T180000
DTSTAMP:20260422T001024
CREATED:20250122T212353Z
LAST-MODIFIED:20250122T212353Z
UID:39175-1739980800-1739988000@kingsmill.com
SUMMARY:Kids Craft
DESCRIPTION:Join us at The Mill for a fun kid-friendly activity!
URL:https://kingsmill.com/event/kids-craft-31/
LOCATION:The Mill
ATTACH;FMTTYPE=image/jpeg:https://kingsmill.com/wp-content/uploads/2024/06/Mill.jpg
END:VEVENT
BEGIN:VEVENT
DTSTART;TZID=UTC:20250221T180000
DTEND;TZID=UTC:20250221T200000
DTSTAMP:20260422T001024
CREATED:20241218T220621Z
LAST-MODIFIED:20241218T220621Z
UID:39014-1740160800-1740168000@kingsmill.com
SUMMARY:Music BINGO
DESCRIPTION:Join us for drinks\, dinner and a few rounds of Music BINGO.
URL:https://kingsmill.com/event/music-bingo-11/
ATTACH;FMTTYPE=image/jpeg:https://kingsmill.com/wp-content/uploads/2024/08/Eagles-1.jpg
END:VEVENT
BEGIN:VEVENT
DTSTART;TZID=UTC:20250222T110000
DTEND;TZID=UTC:20250222T210000
DTSTAMP:20260422T001024
CREATED:20250122T212748Z
LAST-MODIFIED:20250122T212748Z
UID:39177-1740222000-1740258000@kingsmill.com
SUMMARY:National Margarita Day
DESCRIPTION:Join us at Eagles to celebrate National Margarita Day with Marg specials!
URL:https://kingsmill.com/event/national-margarita-day-2/
LOCATION:Eagles
ATTACH;FMTTYPE=image/jpeg:https://kingsmill.com/wp-content/uploads/2025/01/MargDay.jpg
END:VEVENT
BEGIN:VEVENT
DTSTART;TZID=UTC:20250222T160000
DTEND;TZID=UTC:20250222T210000
DTSTAMP:20260422T001024
CREATED:20250122T213108Z
LAST-MODIFIED:20250122T213108Z
UID:39180-1740240000-1740258000@kingsmill.com
SUMMARY:National Margarita Day
DESCRIPTION:Join us at James Landing Grille to celebrate National Margarita Day with Marg specials!
URL:https://kingsmill.com/event/national-margarita-day-3/
LOCATION:James Landing Grille
ATTACH;FMTTYPE=image/jpeg:https://kingsmill.com/wp-content/uploads/2025/01/MargDay.jpg
END:VEVENT
BEGIN:VEVENT
DTSTART;TZID=UTC:20250226T160000
DTEND;TZID=UTC:20250226T200000
DTSTAMP:20260422T001024
CREATED:20250225T213837Z
LAST-MODIFIED:20250225T214310Z
UID:39299-1740585600-1740600000@kingsmill.com
SUMMARY:Community Open House
DESCRIPTION:Do you have any friends or family interested in learning more about The Club at Kingsmill and what it is like to be a Member? We are hosting an open house for the local community and Kingsmill community to experience living like a Member for an evening! Invite your friends and family to RSVP for a night of drink and food specials at James Landing Grille from 4 PM – 8 PM.  \nView menu here. \nIf you know of anyone who would like to RSVP for a spot\, please have them reach out to Madeline Merrick by Tuesday\, February 25. 
URL:https://kingsmill.com/event/community-open-house/
LOCATION:James Landing Grille
ATTACH;FMTTYPE=image/jpeg:https://kingsmill.com/wp-content/uploads/2024/06/JLG-1-1.jpg
END:VEVENT
END:VCALENDAR