BEGIN:VCALENDAR
VERSION:2.0
PRODID:-//Kingsmill Resort and Realty - ECPv6.15.20//NONSGML v1.0//EN
CALSCALE:GREGORIAN
METHOD:PUBLISH
X-WR-CALNAME:Kingsmill Resort and Realty
X-ORIGINAL-URL:https://kingsmill.com
X-WR-CALDESC:Events for Kingsmill Resort and Realty
REFRESH-INTERVAL;VALUE=DURATION:PT1H
X-Robots-Tag:noindex
X-PUBLISHED-TTL:PT1H
BEGIN:VTIMEZONE
TZID:UTC
BEGIN:STANDARD
TZOFFSETFROM:+0000
TZOFFSETTO:+0000
TZNAME:UTC
DTSTART:20240101T000000
END:STANDARD
END:VTIMEZONE
BEGIN:VEVENT
DTSTART;TZID=UTC:20250829T070000
DTEND;TZID=UTC:20250901T183000
DTSTAMP:20260421T110121
CREATED:20250726T002423Z
LAST-MODIFIED:20250726T003016Z
UID:40581-1756450800-1756751400@kingsmill.com
SUMMARY:Labor Day Weekend River Shop Sale
DESCRIPTION:Labor Day Sale! Available August 29 – September 1 \nSpend $100 – 10% Off\nSpend $200 – 20% Off\nSpend $300 – 25% Off\nSpend $500 – 30% Off\nNot to be combined with other discounts\, tiered levels are pre-tax amounts.
URL:https://kingsmill.com/event/labor-day-weekend-river-shop-sale/
LOCATION:River Golf Shop
ATTACH;FMTTYPE=image/jpeg:https://kingsmill.com/wp-content/uploads/2025/06/RiverProShop.jpg
END:VEVENT
BEGIN:VEVENT
DTSTART;TZID=UTC:20250829T090000
DTEND;TZID=UTC:20250901T170000
DTSTAMP:20260421T110121
CREATED:20250723T193011Z
LAST-MODIFIED:20250723T193011Z
UID:40532-1756458000-1756746000@kingsmill.com
SUMMARY:Labor Day Weekend Spa Specials
DESCRIPTION:Enjoy Spa Specials this Labor Day Weekend! Available 8/29 – 9/01 \n\nTake an additional $10 off a massage of your choice!\n50 – minute Couples Massage for $220\, originally $240\nAll massage enhancements – Half Off
URL:https://kingsmill.com/event/labor-day-weekend-spa-specials/
LOCATION:Kingsmill Spa
ATTACH;FMTTYPE=image/jpeg:https://kingsmill.com/wp-content/uploads/2025/04/SpaDeal.jpg
END:VEVENT
BEGIN:VEVENT
DTSTART;TZID=UTC:20250829T090000
DTEND;TZID=UTC:20250901T190000
DTSTAMP:20260421T110121
CREATED:20250723T190933Z
LAST-MODIFIED:20250723T190933Z
UID:40523-1756458000-1756753200@kingsmill.com
SUMMARY:25% off Jet Ski Rentals
DESCRIPTION:Labor Day Special | 8/29 – 9/01\nEnjoy 25% off Jet Ski rentals! To book your ride\, please call (757) 253-3919 or email marina@kingsmill.com.
URL:https://kingsmill.com/event/25-off-jet-ski-rentals/
LOCATION:Kingsmill Marina
ATTACH;FMTTYPE=image/jpeg:https://kingsmill.com/wp-content/uploads/2025/07/JetSkiRental2025.jpg
END:VEVENT
BEGIN:VEVENT
DTSTART;TZID=UTC:20250829T090000
DTEND;TZID=UTC:20250901T210000
DTSTAMP:20260421T110121
CREATED:20250723T191331Z
LAST-MODIFIED:20250723T191444Z
UID:40526-1756458000-1756760400@kingsmill.com
SUMMARY:Cornhole on the Beach with a Chance at Prizes
DESCRIPTION:Enjoy cornhole on the beach at the Marina to celebrate Labor Day Weekend! There will also be drinks for sale in the Marina Store! \nPlay for a chance to win a FREE 1-hour Pontoon Ride or a FREE half-hour jet ski rental
URL:https://kingsmill.com/event/cornhole-on-the-beach-with-a-chance-at-prizes/
LOCATION:Kingsmill Marina
ATTACH;FMTTYPE=image/jpeg:https://kingsmill.com/wp-content/uploads/2025/05/MarinaBoatRegatta.jpg
END:VEVENT
BEGIN:VEVENT
DTSTART;TZID=UTC:20250829T110000
DTEND;TZID=UTC:20250901T220000
DTSTAMP:20260421T110121
CREATED:20250723T183831Z
LAST-MODIFIED:20250723T183831Z
UID:40511-1756465200-1756764000@kingsmill.com
SUMMARY:Labor Day Weekend Food and Beverage Specials - Eagles
DESCRIPTION:Celebrate Labor Day Weekend in style! Join us at Eagles for delicious Food and Beverage Specials!  \nPlease note\, Eagles closes at different times throughout this period: \nFriday\, August 29 | open until 10 PM\nSaturday\, August 30 | open until 12 AM\nSunday\, August 31 | open until 9 PM\nMonday\, September 1 | open until 9 PM
URL:https://kingsmill.com/event/labor-day-weekend-food-and-beverage-specials-eagles/
LOCATION:Eagles
ATTACH;FMTTYPE=image/jpeg:https://kingsmill.com/wp-content/uploads/2024/08/Eagles-1.jpg
END:VEVENT
BEGIN:VEVENT
DTSTART;TZID=UTC:20250829T160000
DTEND;TZID=UTC:20250901T163000
DTSTAMP:20260421T110121
CREATED:20250723T184425Z
LAST-MODIFIED:20250723T184425Z
UID:40515-1756483200-1756744200@kingsmill.com
SUMMARY:Rubber Duck Race
DESCRIPTION:Celebrate Labor Day Weekend with a Rubber Duck Race with Charles around The River Pool’s Lazy River! Winners receive a prize! This is fun for all ages! 
URL:https://kingsmill.com/event/rubber-duck-race-6/
LOCATION:River Pool
ATTACH;FMTTYPE=image/jpeg:https://kingsmill.com/wp-content/uploads/2025/04/DuckRaces2024.jpg
END:VEVENT
BEGIN:VEVENT
DTSTART;TZID=UTC:20250901T110000
DTEND;TZID=UTC:20250901T190000
DTSTAMP:20260421T110121
CREATED:20250820T202728Z
LAST-MODIFIED:20250820T202728Z
UID:40765-1756724400-1756753200@kingsmill.com
SUMMARY:$1 Ice Cream Scoops
DESCRIPTION:Let’s celebrate Labor Day Weekend with a sweet treat! Join us at The Mill for $1 Ice Cream Scoops! Please note\, there is a $1 upcharge for a cone.
URL:https://kingsmill.com/event/1-ice-cream-scoops-4/
LOCATION:The Mill
ATTACH;FMTTYPE=image/jpeg:https://kingsmill.com/wp-content/uploads/2025/01/IceCreamDay.jpg
END:VEVENT
BEGIN:VEVENT
DTSTART;TZID=UTC:20250901T120000
DTEND;TZID=UTC:20250901T160000
DTSTAMP:20260421T110121
CREATED:20250723T190441Z
LAST-MODIFIED:20250723T190441Z
UID:40521-1756728000-1756742400@kingsmill.com
SUMMARY:River Pool Entertainment - DJ Ross
DESCRIPTION:Celebrate Labor Day at The River Pool! Enjoy sunshine\, splashes and music from DJ Ross!
URL:https://kingsmill.com/event/river-pool-entertainment-dj-ross/
LOCATION:River Pool
ATTACH;FMTTYPE=image/jpeg:https://kingsmill.com/wp-content/uploads/2025/04/RiverPoolEvent.jpg
END:VEVENT
BEGIN:VEVENT
DTSTART;TZID=UTC:20250903T040000
DTEND;TZID=UTC:20250903T180000
DTSTAMP:20260421T110121
CREATED:20250814T215147Z
LAST-MODIFIED:20250814T215147Z
UID:40727-1756872000-1756922400@kingsmill.com
SUMMARY:Kids Craft at The Mill
DESCRIPTION:Join us for a kid-friendly craft!
URL:https://kingsmill.com/event/kids-craft-at-the-mill/
LOCATION:The Mill
ATTACH;FMTTYPE=image/jpeg:https://kingsmill.com/wp-content/uploads/2024/06/Mill.jpg
END:VEVENT
BEGIN:VEVENT
DTSTART;TZID=UTC:20250905T180000
DTEND;TZID=UTC:20250905T200000
DTSTAMP:20260421T110121
CREATED:20250814T215441Z
LAST-MODIFIED:20250814T215441Z
UID:40729-1757095200-1757102400@kingsmill.com
SUMMARY:Trivia Night
DESCRIPTION:Join us at Eagles to play a few rounds of Trivia hosted by SpeedQuizzing VA for a chance to win prizes!
URL:https://kingsmill.com/event/trivia-night-15/
LOCATION:Eagles
ATTACH;FMTTYPE=image/jpeg:https://kingsmill.com/wp-content/uploads/2024/08/Eagles-1.jpg
END:VEVENT
BEGIN:VEVENT
DTSTART;TZID=UTC:20250906T170000
DTEND;TZID=UTC:20250906T200000
DTSTAMP:20260421T110121
CREATED:20250814T215744Z
LAST-MODIFIED:20250814T215744Z
UID:40731-1757178000-1757188800@kingsmill.com
SUMMARY:Live Music - Sammy Lee
DESCRIPTION:Join us at James Landing Grille for drinks\, waterside dining\, and live music from Sammy Lee!
URL:https://kingsmill.com/event/live-music-sammy-lee-5/
LOCATION:James Landing Grille
ATTACH;FMTTYPE=image/jpeg:https://kingsmill.com/wp-content/uploads/2025/05/JLGDinner.jpg
END:VEVENT
BEGIN:VEVENT
DTSTART;TZID=UTC:20250907T090000
DTEND;TZID=UTC:20250907T110000
DTSTAMP:20260421T110121
CREATED:20250828T211251Z
LAST-MODIFIED:20250829T003857Z
UID:40838-1757235600-1757242800@kingsmill.com
SUMMARY:Grandparents' Day Brunch
DESCRIPTION:Celebrate National Grandparents’ Day with a special Brunch at River’s Edge Buffet! \nKids under 12 dine free with their grandparents\, and families can enjoy a delicious breakfast together plus a photo booth to capture the memories. \nRSVP is Required | Price for those not 12 and under – $23 (Members receive 20% off this price) \nMembers of The Club at Kingsmill\, click here to RSVP via MembersFirst \nResort Guests\, if you are interested in attending\, please reach out to Madeline.Merrick@kingsmill.com. 
URL:https://kingsmill.com/event/grandparents-day-brunch/
LOCATION:River’s Edge Buffet
ATTACH;FMTTYPE=image/jpeg:https://kingsmill.com/wp-content/uploads/2025/08/GpaBrunch2025.jpg
END:VEVENT
BEGIN:VEVENT
DTSTART;TZID=UTC:20250911T190000
DTEND;TZID=UTC:20250911T210000
DTSTAMP:20260421T110121
CREATED:20250828T194948Z
LAST-MODIFIED:20250917T194025Z
UID:40831-1757617200-1757624400@kingsmill.com
SUMMARY:Moody's Nightcap
DESCRIPTION:Join us for a fun Thursday night at Moody’s! Enjoy live music\, a pool table\, a cash bar\, and beautiful sunset waterfront views! \nSeptember 11 Live Music: Donnaka \n*Moody’s is located on the 5th floor of the main resort building. \nIf you have any questions\, please reach out to Madeline Merrick.
URL:https://kingsmill.com/event/moodys-nightcap-4/
ATTACH;FMTTYPE=image/jpeg:https://kingsmill.com/wp-content/uploads/2025/03/Moodys2024.jpg
END:VEVENT
BEGIN:VEVENT
DTSTART;TZID=UTC:20250913T170000
DTEND;TZID=UTC:20250913T200000
DTSTAMP:20260421T110121
CREATED:20250814T221900Z
LAST-MODIFIED:20250814T221945Z
UID:40737-1757782800-1757793600@kingsmill.com
SUMMARY:Live Music - Patrick Ryan
DESCRIPTION:Join us at James Landing Grille for dinner\, drinks\, riverfront views\, and live music from Patrick Ryan!
URL:https://kingsmill.com/event/live-music-patrick-ryan-6/
ATTACH;FMTTYPE=image/jpeg:https://kingsmill.com/wp-content/uploads/2025/05/JLGDinner.jpg
END:VEVENT
BEGIN:VEVENT
DTSTART;TZID=UTC:20250914T110000
DTEND;TZID=UTC:20250914T210000
DTSTAMP:20260421T110121
CREATED:20250814T221623Z
LAST-MODIFIED:20250903T001701Z
UID:40735-1757847600-1757883600@kingsmill.com
SUMMARY:National Eat a Hoagie Day
DESCRIPTION:Head to Eagles and enjoy Chef Created Specials that celebrate National Eat a Hoagie Day!
URL:https://kingsmill.com/event/national-eat-a-hoagie-day/
LOCATION:Eagles
ATTACH;FMTTYPE=image/jpeg:https://kingsmill.com/wp-content/uploads/2024/08/Eagles-1.jpg
END:VEVENT
BEGIN:VEVENT
DTSTART;TZID=UTC:20250917T040000
DTEND;TZID=UTC:20250917T180000
DTSTAMP:20260421T110121
CREATED:20250814T222219Z
LAST-MODIFIED:20250814T222219Z
UID:40739-1758081600-1758132000@kingsmill.com
SUMMARY:Kids Craft
DESCRIPTION:Join us at The Mill for a kid-friendly craft!
URL:https://kingsmill.com/event/kids-craft-43/
LOCATION:The Mill
ATTACH;FMTTYPE=image/jpeg:https://kingsmill.com/wp-content/uploads/2024/06/Mill.jpg
END:VEVENT
BEGIN:VEVENT
DTSTART;TZID=UTC:20250918T070000
DTEND;TZID=UTC:20250918T170000
DTSTAMP:20260421T110121
CREATED:20250814T223308Z
LAST-MODIFIED:20250814T223308Z
UID:40741-1758178800-1758214800@kingsmill.com
SUMMARY:National Rice Crispy Treat Day
DESCRIPTION:Celebrate National Rice Crispy Treat Day at The Mill with delicious Rice Crispy Treat specials!
URL:https://kingsmill.com/event/national-rice-crispy-treat-day/
LOCATION:The Mill
ATTACH;FMTTYPE=image/jpeg:https://kingsmill.com/wp-content/uploads/2024/06/Mill.jpg
END:VEVENT
BEGIN:VEVENT
DTSTART;TZID=UTC:20250919T180000
DTEND;TZID=UTC:20250919T200000
DTSTAMP:20260421T110121
CREATED:20250814T223506Z
LAST-MODIFIED:20250814T223506Z
UID:40743-1758304800-1758312000@kingsmill.com
SUMMARY:Music Bingo
DESCRIPTION:Join us at Eagles for dinner\, drinks\, and a few rounds of Music BINGO!
URL:https://kingsmill.com/event/music-bingo-18/
LOCATION:Eagles
ATTACH;FMTTYPE=image/jpeg:https://kingsmill.com/wp-content/uploads/2024/08/Eagles-1.jpg
END:VEVENT
BEGIN:VEVENT
DTSTART;TZID=UTC:20250920T050000
DTEND;TZID=UTC:20250920T200000
DTSTAMP:20260421T110121
CREATED:20250814T223827Z
LAST-MODIFIED:20250910T215821Z
UID:40745-1758344400-1758398400@kingsmill.com
SUMMARY:Live Music - Mike Demoss
DESCRIPTION:Join us at Eagles for dinner\, drinks\, riverfront views\, and live music from Mike Demoss! \nPlease note that music will be held at Eagles\, as James Landing Grille is closed for a private event on 9/20.
URL:https://kingsmill.com/event/live-music-mike-demoss-3/
LOCATION:Eagles
ATTACH;FMTTYPE=image/jpeg:https://kingsmill.com/wp-content/uploads/2024/08/Eagles-1.jpg
END:VEVENT
BEGIN:VEVENT
DTSTART;TZID=UTC:20250925T160000
DTEND;TZID=UTC:20250925T210000
DTSTAMP:20260421T110121
CREATED:20250814T224120Z
LAST-MODIFIED:20250922T215147Z
UID:40747-1758816000-1758834000@kingsmill.com
SUMMARY:National Lobster Day
DESCRIPTION:Celebrate National Lobster Day at James Landing Grille with a delicious Lobster special! \nClick here to view the special!
URL:https://kingsmill.com/event/national-lobster-day/
LOCATION:James Landing Grille
ATTACH;FMTTYPE=image/jpeg:https://kingsmill.com/wp-content/uploads/2025/05/JLGDinner.jpg
END:VEVENT
BEGIN:VEVENT
DTSTART;TZID=UTC:20250927T170000
DTEND;TZID=UTC:20250927T200000
DTSTAMP:20260421T110121
CREATED:20250814T224724Z
LAST-MODIFIED:20250926T001404Z
UID:40749-1758992400-1759003200@kingsmill.com
SUMMARY:Live Music - Manhattan Affair
DESCRIPTION:Join us at James Landing Grille for dinner\, drinks\, riverfront views\, and live music from Manhattan Affair!
URL:https://kingsmill.com/event/live-music-manhattan-affair-2-2/
LOCATION:James Landing Grille
ATTACH;FMTTYPE=image/jpeg:https://kingsmill.com/wp-content/uploads/2025/05/JLGDinner.jpg
END:VEVENT
END:VCALENDAR